BEGIN:VCALENDAR
VERSION:2.0
PRODID:-//Leeds Salsa Club - ECPv6.15.20//NONSGML v1.0//EN
CALSCALE:GREGORIAN
METHOD:PUBLISH
X-WR-CALNAME:Leeds Salsa Club
X-ORIGINAL-URL:https://www.leedssalsaclub.com
X-WR-CALDESC:Events for Leeds Salsa Club
REFRESH-INTERVAL;VALUE=DURATION:PT1H
X-Robots-Tag:noindex
X-PUBLISHED-TTL:PT1H
BEGIN:VTIMEZONE
TZID:UTC
BEGIN:STANDARD
TZOFFSETFROM:+0000
TZOFFSETTO:+0000
TZNAME:UTC
DTSTART:20240101T000000
END:STANDARD
END:VTIMEZONE
BEGIN:VEVENT
DTSTART;TZID=UTC:20251105T192500
DTEND;TZID=UTC:20251105T202500
DTSTAMP:20260421T160241
CREATED:20250901T145245Z
LAST-MODIFIED:20250901T145245Z
UID:868-1762370700-1762374300@www.leedssalsaclub.com
SUMMARY:Bachata All Level 6 Week Course
DESCRIPTION:Bachata All Level 6 Week Course \nBeginners Welcome! \nStarting 5 November – 10 December \nHeld at the Dance Studio Leeds\, Mabgate Mills. \nClasses will run every Wednesday at 7.25pm. \nNo partner required. \nThere are limited spaces\, please book early to avoid disappointment. \n**Refunds are not available on courses\, where possible we may be able to move you onto another course depending on the situation and availability**
URL:https://www.leedssalsaclub.com/event/bachata-all-level-6-week-course-4/
LOCATION:Dance Studio\, Mill 6\, Mabgate mills\, Macaulay St\, Leeds\, LS9 7SW
CATEGORIES:Salsa Events
ATTACH;FMTTYPE=image/jpeg:https://www.leedssalsaclub.com/wp-content/uploads/2025/04/FB_IMG_1643798699892.jpg
ORGANIZER;CN="Leeds Salsa Club":MAILTO:salsatwinsuk@gmail.co.uk
END:VEVENT
BEGIN:VEVENT
DTSTART;TZID=UTC:20251030T200000
DTEND;TZID=UTC:20251030T210000
DTSTAMP:20260421T160241
CREATED:20250901T144950Z
LAST-MODIFIED:20250901T144950Z
UID:865-1761854400-1761858000@www.leedssalsaclub.com
SUMMARY:Salsa Intermediate/Advanced Class
DESCRIPTION:Salsa with Leeds Salsa Club returns to Cornerstone Baptist Church Hall! \nLocated in Headingley and free street parking close by\, welcome back to the best salsa night in Leeds! \n8.00pm-9.00pm Intermediate/Advanced \n£7pp \nYou can book online or by card/cash at the venue.
URL:https://www.leedssalsaclub.com/event/salsa-intermediate-advanced-class-24/
LOCATION:Cornerstone Baptist Church Hall\, Kirkstall Ln\, Headingley\, Leeds\, LS6 3LF
CATEGORIES:Salsa Events
ATTACH;FMTTYPE=image/png:https://www.leedssalsaclub.com/wp-content/uploads/2025/04/png_20230421_081430_0000.png
END:VEVENT
BEGIN:VEVENT
DTSTART;TZID=UTC:20251030T190000
DTEND;TZID=UTC:20251030T210000
DTSTAMP:20260421T160241
CREATED:20250901T144835Z
LAST-MODIFIED:20250901T144835Z
UID:862-1761850800-1761858000@www.leedssalsaclub.com
SUMMARY:Salsa Both Level Classes
DESCRIPTION:Salsa with Leeds Salsa Club returns to Cornerstone Baptist Church Hall! \nLocated in the Headingley and free street parking close by\, welcome back to the best salsa night in Leeds! \n7.00pm-8.00pm Beginners/Improvers \n8.00pm-9.00pm Intermediate/Advanced \n£10pp for both classes (only valid on same night) \nYou can book online or by card/cash at the venue.
URL:https://www.leedssalsaclub.com/event/salsa-both-level-classes-24/
LOCATION:Cornerstone Baptist Church Hall\, Kirkstall Ln\, Headingley\, Leeds\, LS6 3LF
CATEGORIES:Salsa Events
ATTACH;FMTTYPE=image/png:https://www.leedssalsaclub.com/wp-content/uploads/2025/04/png_20230421_081430_0000.png
END:VEVENT
BEGIN:VEVENT
DTSTART;TZID=UTC:20251030T190000
DTEND;TZID=UTC:20251030T200000
DTSTAMP:20260421T160241
CREATED:20250901T144733Z
LAST-MODIFIED:20250901T144733Z
UID:859-1761850800-1761854400@www.leedssalsaclub.com
SUMMARY:Salsa Beginners/Improvers Class
DESCRIPTION:Salsa with Leeds Salsa Club returns to Cornerstone Baptist Church Hall! \nLocated in the Headingley and free street parking close by\, welcome back to the best salsa night in Leeds! \n7.00pm-8.00pm Beginners/Improvers \n£7pp \nYou can book online or by card/cash at the venue.
URL:https://www.leedssalsaclub.com/event/salsa-beginners-improvers-class-24/
LOCATION:Cornerstone Baptist Church Hall\, Kirkstall Ln\, Headingley\, Leeds\, LS6 3LF
CATEGORIES:Salsa Events
ATTACH;FMTTYPE=image/png:https://www.leedssalsaclub.com/wp-content/uploads/2025/04/png_20230421_081430_0000.png
END:VEVENT
BEGIN:VEVENT
DTSTART;TZID=UTC:20251023T200000
DTEND;TZID=UTC:20251023T210000
DTSTAMP:20260421T160241
CREATED:20250901T144620Z
LAST-MODIFIED:20250901T144620Z
UID:856-1761249600-1761253200@www.leedssalsaclub.com
SUMMARY:Salsa Intermediate/Advanced Class
DESCRIPTION:Salsa with Leeds Salsa Club returns to Cornerstone Baptist Church Hall! \nLocated in Headingley and free street parking close by\, welcome back to the best salsa night in Leeds! \n8.00pm-9.00pm Intermediate/Advanced \n£7pp \nYou can book online or by card/cash at the venue.
URL:https://www.leedssalsaclub.com/event/salsa-intermediate-advanced-class-23/
LOCATION:Cornerstone Baptist Church Hall\, Kirkstall Ln\, Headingley\, Leeds\, LS6 3LF
CATEGORIES:Salsa Events
ATTACH;FMTTYPE=image/png:https://www.leedssalsaclub.com/wp-content/uploads/2025/04/png_20230421_081430_0000.png
END:VEVENT
BEGIN:VEVENT
DTSTART;TZID=UTC:20251023T190000
DTEND;TZID=UTC:20251023T210000
DTSTAMP:20260421T160241
CREATED:20250901T144423Z
LAST-MODIFIED:20250901T144423Z
UID:853-1761246000-1761253200@www.leedssalsaclub.com
SUMMARY:Salsa Both Level Classes
DESCRIPTION:Salsa with Leeds Salsa Club returns to Cornerstone Baptist Church Hall! \nLocated in the Headingley and free street parking close by\, welcome back to the best salsa night in Leeds! \n7.00pm-8.00pm Beginners/Improvers \n8.00pm-9.00pm Intermediate/Advanced \n£10pp for both classes (only valid on same night) \nYou can book online or by card/cash at the venue.
URL:https://www.leedssalsaclub.com/event/salsa-both-level-classes-23/
LOCATION:Cornerstone Baptist Church Hall\, Kirkstall Ln\, Headingley\, Leeds\, LS6 3LF
CATEGORIES:Salsa Events
ATTACH;FMTTYPE=image/png:https://www.leedssalsaclub.com/wp-content/uploads/2025/04/png_20230421_081430_0000.png
END:VEVENT
BEGIN:VEVENT
DTSTART;TZID=UTC:20251023T190000
DTEND;TZID=UTC:20251023T200000
DTSTAMP:20260421T160241
CREATED:20250901T144309Z
LAST-MODIFIED:20250901T144309Z
UID:850-1761246000-1761249600@www.leedssalsaclub.com
SUMMARY:Salsa Beginners/Improvers Class
DESCRIPTION:Salsa with Leeds Salsa Club returns to Cornerstone Baptist Church Hall! \nLocated in the Headingley and free street parking close by\, welcome back to the best salsa night in Leeds! \n7.00pm-8.00pm Beginners/Improvers \n£7pp \nYou can book online or by card/cash at the venue.
URL:https://www.leedssalsaclub.com/event/salsa-beginners-improvers-class-23/
LOCATION:Cornerstone Baptist Church Hall\, Kirkstall Ln\, Headingley\, Leeds\, LS6 3LF
CATEGORIES:Salsa Events
ATTACH;FMTTYPE=image/png:https://www.leedssalsaclub.com/wp-content/uploads/2025/04/png_20230421_081430_0000.png
END:VEVENT
BEGIN:VEVENT
DTSTART;TZID=UTC:20251016T200000
DTEND;TZID=UTC:20251016T210000
DTSTAMP:20260421T160241
CREATED:20250901T144125Z
LAST-MODIFIED:20250901T144125Z
UID:847-1760644800-1760648400@www.leedssalsaclub.com
SUMMARY:Salsa Intermediate/Advanced Class
DESCRIPTION:Salsa with Leeds Salsa Club returns to Cornerstone Baptist Church Hall! \nLocated in Headingley and free street parking close by\, welcome back to the best salsa night in Leeds! \n8.00pm-9.00pm Intermediate/Advanced \n£7pp \nYou can book online or by card/cash at the venue.
URL:https://www.leedssalsaclub.com/event/salsa-intermediate-advanced-class-22/
LOCATION:Cornerstone Baptist Church Hall\, Kirkstall Ln\, Headingley\, Leeds\, LS6 3LF
CATEGORIES:Salsa Events
ATTACH;FMTTYPE=image/png:https://www.leedssalsaclub.com/wp-content/uploads/2025/04/png_20230421_081430_0000.png
END:VEVENT
BEGIN:VEVENT
DTSTART;TZID=UTC:20251016T190000
DTEND;TZID=UTC:20251016T210000
DTSTAMP:20260421T160241
CREATED:20250901T143935Z
LAST-MODIFIED:20250901T143935Z
UID:844-1760641200-1760648400@www.leedssalsaclub.com
SUMMARY:Salsa Both Level Classes
DESCRIPTION:Salsa with Leeds Salsa Club returns to Cornerstone Baptist Church Hall! \nLocated in the Headingley and free street parking close by\, welcome back to the best salsa night in Leeds! \n7.00pm-8.00pm Beginners/Improvers \n8.00pm-9.00pm Intermediate/Advanced \n£10pp for both classes (only valid on same night) \nYou can book online or by card/cash at the venue.
URL:https://www.leedssalsaclub.com/event/salsa-both-level-classes-22/
LOCATION:Cornerstone Baptist Church Hall\, Kirkstall Ln\, Headingley\, Leeds\, LS6 3LF
CATEGORIES:Salsa Events
ATTACH;FMTTYPE=image/png:https://www.leedssalsaclub.com/wp-content/uploads/2025/04/png_20230421_081430_0000.png
END:VEVENT
BEGIN:VEVENT
DTSTART;TZID=UTC:20251016T190000
DTEND;TZID=UTC:20251016T200000
DTSTAMP:20260421T160241
CREATED:20250901T143821Z
LAST-MODIFIED:20250901T143821Z
UID:841-1760641200-1760644800@www.leedssalsaclub.com
SUMMARY:Salsa Beginners/Improvers Class
DESCRIPTION:Salsa with Leeds Salsa Club returns to Cornerstone Baptist Church Hall! \nLocated in the Headingley and free street parking close by\, welcome back to the best salsa night in Leeds! \n7.00pm-8.00pm Beginners/Improvers \n£7pp \nYou can book online or by card/cash at the venue.
URL:https://www.leedssalsaclub.com/event/salsa-beginners-improvers-class-22/
LOCATION:Cornerstone Baptist Church Hall\, Kirkstall Ln\, Headingley\, Leeds\, LS6 3LF
CATEGORIES:Salsa Events
ATTACH;FMTTYPE=image/png:https://www.leedssalsaclub.com/wp-content/uploads/2025/04/png_20230421_081430_0000.png
END:VEVENT
BEGIN:VEVENT
DTSTART;TZID=UTC:20250925T200000
DTEND;TZID=UTC:20250925T210000
DTSTAMP:20260421T160241
CREATED:20250901T143504Z
LAST-MODIFIED:20250901T143504Z
UID:838-1758830400-1758834000@www.leedssalsaclub.com
SUMMARY:Salsa Intermediate/Advanced Class
DESCRIPTION:Salsa with Leeds Salsa Club returns to Cornerstone Baptist Church Hall! \nLocated in Headingley and free street parking close by\, welcome back to the best salsa night in Leeds! \n8.00pm-9.00pm Intermediate/Advanced \n£7pp \nYou can book online or by card/cash at the venue.
URL:https://www.leedssalsaclub.com/event/salsa-intermediate-advanced-class-21/
LOCATION:Cornerstone Baptist Church Hall\, Kirkstall Ln\, Headingley\, Leeds\, LS6 3LF
CATEGORIES:Salsa Events
ATTACH;FMTTYPE=image/png:https://www.leedssalsaclub.com/wp-content/uploads/2025/04/png_20230421_081430_0000.png
END:VEVENT
BEGIN:VEVENT
DTSTART;TZID=UTC:20250925T190000
DTEND;TZID=UTC:20250925T210000
DTSTAMP:20260421T160241
CREATED:20250901T143350Z
LAST-MODIFIED:20250901T143350Z
UID:835-1758826800-1758834000@www.leedssalsaclub.com
SUMMARY:Salsa Both Level Classes
DESCRIPTION:Salsa with Leeds Salsa Club returns to Cornerstone Baptist Church Hall! \nLocated in the Headingley and free street parking close by\, welcome back to the best salsa night in Leeds! \n7.00pm-8.00pm Beginners/Improvers \n8.00pm-9.00pm Intermediate/Advanced \n£10pp for both classes (only valid on same night) \nYou can book online or by card/cash at the venue.
URL:https://www.leedssalsaclub.com/event/salsa-both-level-classes-21/
LOCATION:Cornerstone Baptist Church Hall\, Kirkstall Ln\, Headingley\, Leeds\, LS6 3LF
CATEGORIES:Salsa Events
ATTACH;FMTTYPE=image/png:https://www.leedssalsaclub.com/wp-content/uploads/2025/04/png_20230421_081430_0000.png
END:VEVENT
BEGIN:VEVENT
DTSTART;TZID=UTC:20250925T190000
DTEND;TZID=UTC:20250925T200000
DTSTAMP:20260421T160241
CREATED:20250901T143234Z
LAST-MODIFIED:20250901T143234Z
UID:832-1758826800-1758830400@www.leedssalsaclub.com
SUMMARY:Salsa Beginners/Improvers Class
DESCRIPTION:Salsa with Leeds Salsa Club returns to Cornerstone Baptist Church Hall! \nLocated in the Headingley and free street parking close by\, welcome back to the best salsa night in Leeds! \n7.00pm-8.00pm Beginners/Improvers \n£7pp \nYou can book online or by card/cash at the venue.
URL:https://www.leedssalsaclub.com/event/salsa-beginners-improvers-class-21/
LOCATION:Cornerstone Baptist Church Hall\, Kirkstall Ln\, Headingley\, Leeds\, LS6 3LF
CATEGORIES:Salsa Events
ATTACH;FMTTYPE=image/png:https://www.leedssalsaclub.com/wp-content/uploads/2025/04/png_20230421_081430_0000.png
END:VEVENT
BEGIN:VEVENT
DTSTART;TZID=UTC:20250924T192500
DTEND;TZID=UTC:20250924T202500
DTSTAMP:20260421T160241
CREATED:20250814T075248Z
LAST-MODIFIED:20250814T075248Z
UID:778-1758741900-1758745500@www.leedssalsaclub.com
SUMMARY:Bachata All Level 6 Week Course
DESCRIPTION:Bachata All Level 6 Week Course \nBeginners Welcome! \nStarting 24 September – 29 October \nHeld at the Dance Studio Leeds\, Mabgate Mills. \nClasses will run every Wednesday at 7.25pm. \nNo partner required. \nThere are limited spaces\, please book early to avoid disappointment. \n**Refunds are not available on courses\, where possible we may be able to move you onto another course depending on the situation and availability**
URL:https://www.leedssalsaclub.com/event/bachata-all-level-6-week-course-3/
LOCATION:Dance Studio\, Mill 6\, Mabgate mills\, Macaulay St\, Leeds\, LS9 7SW
CATEGORIES:Salsa Events
ATTACH;FMTTYPE=image/jpeg:https://www.leedssalsaclub.com/wp-content/uploads/2025/04/FB_IMG_1643798699892.jpg
ORGANIZER;CN="Leeds Salsa Club":MAILTO:salsatwinsuk@gmail.co.uk
END:VEVENT
BEGIN:VEVENT
DTSTART;TZID=UTC:20250919T203000
DTEND;TZID=UTC:20250919T213000
DTSTAMP:20260421T160241
CREATED:20250811T170612Z
LAST-MODIFIED:20250811T170612Z
UID:759-1758313800-1758317400@www.leedssalsaclub.com
SUMMARY:Performance Bootcamp 2025!
DESCRIPTION:It’s time…for another Performance Bootcamp \nStarting 19 September until 7 November  \nRehearsals will be every Friday 8.30pm-9.30pm @dance_studio_leeds \nDress rehearsal 14 November  (You will need to be available on this date) \nSHOW DAY 15 November  (You will need to be available on this date) \n£115pp for 8 weeks. (You will need to purchase performance clothes – decided during rehearsals) \nNo experience required\, we will teach you the steps and choreography from beginning to end. \nCheck out previous years on our YouTube Channel – Leeds Salsa Club. \nBuild your confidence and create friendships that last. \nThis is the third year performing for the Dance Studio Leeds Showcase. This is an amazing event raising money for their chosen charity. \nCome join us!
URL:https://www.leedssalsaclub.com/event/performance-bootcamp-2025/
LOCATION:Dance Studio\, Mill 6\, Mabgate mills\, Macaulay St\, Leeds\, LS9 7SW
CATEGORIES:Salsa Events
ATTACH;FMTTYPE=image/jpeg:https://www.leedssalsaclub.com/wp-content/uploads/2025/08/791a5174-6060-43bf-ac49-6f9ff2f56730.jpeg
END:VEVENT
BEGIN:VEVENT
DTSTART;TZID=UTC:20250918T200000
DTEND;TZID=UTC:20250918T210000
DTSTAMP:20260421T160241
CREATED:20250901T142853Z
LAST-MODIFIED:20250901T142853Z
UID:829-1758225600-1758229200@www.leedssalsaclub.com
SUMMARY:Salsa Intermediate/Advanced Class
DESCRIPTION:Salsa with Leeds Salsa Club returns to Cornerstone Baptist Church Hall! \nLocated in Headingley and free street parking close by\, welcome back to the best salsa night in Leeds! \n8.00pm-9.00pm Intermediate/Advanced \n£7pp \nYou can book online or by card/cash at the venue.
URL:https://www.leedssalsaclub.com/event/salsa-intermediate-advanced-class-20/
LOCATION:Cornerstone Baptist Church Hall\, Kirkstall Ln\, Headingley\, Leeds\, LS6 3LF
CATEGORIES:Salsa Events
ATTACH;FMTTYPE=image/png:https://www.leedssalsaclub.com/wp-content/uploads/2025/04/png_20230421_081430_0000.png
END:VEVENT
BEGIN:VEVENT
DTSTART;TZID=UTC:20250918T190000
DTEND;TZID=UTC:20250918T210000
DTSTAMP:20260421T160241
CREATED:20250901T142744Z
LAST-MODIFIED:20250901T142744Z
UID:826-1758222000-1758229200@www.leedssalsaclub.com
SUMMARY:Salsa Both Level Classes
DESCRIPTION:Salsa with Leeds Salsa Club returns to Cornerstone Baptist Church Hall! \nLocated in the Headingley and free street parking close by\, welcome back to the best salsa night in Leeds! \n7.00pm-8.00pm Beginners/Improvers \n8.00pm-9.00pm Intermediate/Advanced \n£10pp for both classes (only valid on same night) \nYou can book online or by card/cash at the venue.
URL:https://www.leedssalsaclub.com/event/salsa-both-level-classes-20/
LOCATION:Cornerstone Baptist Church Hall\, Kirkstall Ln\, Headingley\, Leeds\, LS6 3LF
CATEGORIES:Salsa Events
ATTACH;FMTTYPE=image/png:https://www.leedssalsaclub.com/wp-content/uploads/2025/04/png_20230421_081430_0000.png
END:VEVENT
BEGIN:VEVENT
DTSTART;TZID=UTC:20250918T190000
DTEND;TZID=UTC:20250918T200000
DTSTAMP:20260421T160241
CREATED:20250901T142637Z
LAST-MODIFIED:20250901T142637Z
UID:823-1758222000-1758225600@www.leedssalsaclub.com
SUMMARY:Salsa Beginners/Improvers Class
DESCRIPTION:Salsa with Leeds Salsa Club returns to Cornerstone Baptist Church Hall! \nLocated in the Headingley and free street parking close by\, welcome back to the best salsa night in Leeds! \n7.00pm-8.00pm Beginners/Improvers \n£7pp \nYou can book online or by card/cash at the venue.
URL:https://www.leedssalsaclub.com/event/salsa-beginners-improvers-class-20/
LOCATION:Cornerstone Baptist Church Hall\, Kirkstall Ln\, Headingley\, Leeds\, LS6 3LF
CATEGORIES:Salsa Events
ATTACH;FMTTYPE=image/png:https://www.leedssalsaclub.com/wp-content/uploads/2025/04/png_20230421_081430_0000.png
END:VEVENT
BEGIN:VEVENT
DTSTART;TZID=UTC:20250911T200000
DTEND;TZID=UTC:20250911T210000
DTSTAMP:20260421T160241
CREATED:20250821T144228Z
LAST-MODIFIED:20250821T144228Z
UID:812-1757620800-1757624400@www.leedssalsaclub.com
SUMMARY:Salsa Intermediate/Advanced Class
DESCRIPTION:Salsa with Leeds Salsa Club returns to Cornerstone Baptist Church Hall! \nLocated in Headingley and free street parking close by\, welcome back to the best salsa night in Leeds! \n8.00pm-9.00pm Intermediate/Advanced \n£7pp \nYou can book online or by card/cash at the venue.
URL:https://www.leedssalsaclub.com/event/salsa-intermediate-advanced-class-19/
LOCATION:Cornerstone Baptist Church Hall\, Kirkstall Ln\, Headingley\, Leeds\, LS6 3LF
CATEGORIES:Salsa Events
ATTACH;FMTTYPE=image/png:https://www.leedssalsaclub.com/wp-content/uploads/2025/04/png_20230421_081430_0000.png
END:VEVENT
BEGIN:VEVENT
DTSTART;TZID=UTC:20250911T190000
DTEND;TZID=UTC:20250911T210000
DTSTAMP:20260421T160241
CREATED:20250821T144059Z
LAST-MODIFIED:20250821T144059Z
UID:809-1757617200-1757624400@www.leedssalsaclub.com
SUMMARY:Salsa Both Level Classes
DESCRIPTION:Salsa with Leeds Salsa Club returns to Cornerstone Baptist Church Hall! \nLocated in the Headingley and free street parking close by\, welcome back to the best salsa night in Leeds! \n7.00pm-8.00pm Beginners/Improvers \n8.00pm-9.00pm Intermediate/Advanced \n£10pp for both classes (only valid on same night) \nYou can book online or by card/cash at the venue.
URL:https://www.leedssalsaclub.com/event/salsa-both-level-classes-19/
LOCATION:Cornerstone Baptist Church Hall\, Kirkstall Ln\, Headingley\, Leeds\, LS6 3LF
CATEGORIES:Salsa Events
ATTACH;FMTTYPE=image/png:https://www.leedssalsaclub.com/wp-content/uploads/2025/04/png_20230421_081430_0000.png
END:VEVENT
BEGIN:VEVENT
DTSTART;TZID=UTC:20250911T190000
DTEND;TZID=UTC:20250911T200000
DTSTAMP:20260421T160241
CREATED:20250821T143947Z
LAST-MODIFIED:20250821T143947Z
UID:806-1757617200-1757620800@www.leedssalsaclub.com
SUMMARY:Salsa Beginners/Improvers Class
DESCRIPTION:Salsa with Leeds Salsa Club returns to Cornerstone Baptist Church Hall! \nLocated in the Headingley and free street parking close by\, welcome back to the best salsa night in Leeds! \n7.00pm-8.00pm Beginners/Improvers \n£7pp \nYou can book online or by card/cash at the venue.
URL:https://www.leedssalsaclub.com/event/salsa-beginners-improvers-class-19/
LOCATION:Cornerstone Baptist Church Hall\, Kirkstall Ln\, Headingley\, Leeds\, LS6 3LF
CATEGORIES:Salsa Events
ATTACH;FMTTYPE=image/png:https://www.leedssalsaclub.com/wp-content/uploads/2025/04/png_20230421_081430_0000.png
END:VEVENT
BEGIN:VEVENT
DTSTART;TZID=UTC:20250905T190000
DTEND;TZID=UTC:20250905T200000
DTSTAMP:20260421T160241
CREATED:20250821T144553Z
LAST-MODIFIED:20250821T144553Z
UID:818-1757098800-1757102400@www.leedssalsaclub.com
SUMMARY:1:1 Class
DESCRIPTION:1:1 Classes with Leeds Salsa Club \nWanting to take your dancing to the next level? \nJust starting out and need some confidence before joining group classes? \nPrivate classes are the way to get you where you need to be in your dancing. \nLet us know what you are wanting and we will help you achieve this. \nYou can book as an individual or as a couple. \nAny questions just email us at salsatwinsuk@gmail.com \n 
URL:https://www.leedssalsaclub.com/event/11-class-20/
LOCATION:Leeds Salsa Club\, 16 St James Quay\, 4 Bowman Lane\, Leeds\, LS10 1HG
CATEGORIES:Salsa Events
ATTACH;FMTTYPE=image/jpeg:https://www.leedssalsaclub.com/wp-content/uploads/2025/04/page1_img4.jpg
END:VEVENT
BEGIN:VEVENT
DTSTART;TZID=UTC:20250905T180000
DTEND;TZID=UTC:20250905T190000
DTSTAMP:20260421T160241
CREATED:20250821T144357Z
LAST-MODIFIED:20250821T144357Z
UID:815-1757095200-1757098800@www.leedssalsaclub.com
SUMMARY:1:1 Class
DESCRIPTION:1:1 Classes with Leeds Salsa Club \nWanting to take your dancing to the next level? \nJust starting out and need some confidence before joining group classes? \nPrivate classes are the way to get you where you need to be in your dancing. \nLet us know what you are wanting and we will help you achieve this. \nYou can book as an individual or as a couple. \nAny questions just email us at salsatwinsuk@gmail.com \n 
URL:https://www.leedssalsaclub.com/event/11-class-19/
LOCATION:Leeds Salsa Club\, 16 St James Quay\, 4 Bowman Lane\, Leeds\, LS10 1HG
CATEGORIES:Salsa Events
ATTACH;FMTTYPE=image/jpeg:https://www.leedssalsaclub.com/wp-content/uploads/2025/04/page1_img4.jpg
END:VEVENT
BEGIN:VEVENT
DTSTART;TZID=UTC:20250905T100000
DTEND;TZID=UTC:20250905T110000
DTSTAMP:20260421T160241
CREATED:20250510T104928Z
LAST-MODIFIED:20250510T104928Z
UID:532-1757066400-1757070000@www.leedssalsaclub.com
SUMMARY:SalsaFit 6 Week Course
DESCRIPTION:SalsaFit 6 Week Course \n@Scarcroft Village Hall \n10am – 11pm Every Friday for six weeks. \nLearn a fun Salsa footwork routine over the 6 weeks\, whilst getting fit and meeting new friends! \nThis is an open level class\, everyone is welcome regardless of age\, ability and health levels. Just come and have fun! \nSalsa comes from Cuba and is a lovely Latin dance to learn\, working on coordination and building stamina\, whilst having fun doing it. \n6 Week course £40pp \nBooking is required to secure your space. \n*Refunds are not available on these courses*
URL:https://www.leedssalsaclub.com/event/salsafit-6-week-course/
LOCATION:Scarcroft Village Hall\, Wetherby Road\, Scarcroft\, LS14 3AS
CATEGORIES:Salsa Events
ATTACH;FMTTYPE=image/jpeg:https://www.leedssalsaclub.com/wp-content/uploads/2025/04/Abi_Teaching.jpg
END:VEVENT
BEGIN:VEVENT
DTSTART;TZID=UTC:20250904T200000
DTEND;TZID=UTC:20250904T210000
DTSTAMP:20260421T160241
CREATED:20250721T094158Z
LAST-MODIFIED:20250721T094158Z
UID:701-1757016000-1757019600@www.leedssalsaclub.com
SUMMARY:Salsa Intermediate/Advanced Class
DESCRIPTION:Salsa with Leeds Salsa Club returns to Cornerstone Baptist Church Hall! \nLocated in Headingley and free street parking close by\, welcome back to the best salsa night in Leeds! \n8.00pm-9.00pm Intermediate/Advanced \n£7pp \nYou can book online or by card/cash at the venue.
URL:https://www.leedssalsaclub.com/event/salsa-intermediate-advanced-class-18/
LOCATION:Cornerstone Baptist Church Hall\, Kirkstall Ln\, Headingley\, Leeds\, LS6 3LF
CATEGORIES:Salsa Events
ATTACH;FMTTYPE=image/png:https://www.leedssalsaclub.com/wp-content/uploads/2025/04/png_20230421_081430_0000.png
END:VEVENT
BEGIN:VEVENT
DTSTART;TZID=UTC:20250904T190000
DTEND;TZID=UTC:20250904T210000
DTSTAMP:20260421T160241
CREATED:20250721T093359Z
LAST-MODIFIED:20250721T095022Z
UID:681-1757012400-1757019600@www.leedssalsaclub.com
SUMMARY:Salsa Both Level Classes
DESCRIPTION:Salsa with Leeds Salsa Club returns to Cornerstone Baptist Church Hall! \nLocated in the Headingley and free street parking close by\, welcome back to the best salsa night in Leeds! \n7.00pm-8.00pm Beginners/Improvers \n8.00pm-9.00pm Intermediate/Advanced \n£10pp for both classes (only valid on same night) \nYou can book online or by card/cash at the venue.
URL:https://www.leedssalsaclub.com/event/salsa-both-level-classes-18/
LOCATION:Cornerstone Baptist Church Hall\, Kirkstall Ln\, Headingley\, Leeds\, LS6 3LF
CATEGORIES:Salsa Events
ATTACH;FMTTYPE=image/png:https://www.leedssalsaclub.com/wp-content/uploads/2025/04/png_20230421_081430_0000.png
END:VEVENT
BEGIN:VEVENT
DTSTART;TZID=UTC:20250904T190000
DTEND;TZID=UTC:20250904T200000
DTSTAMP:20260421T160241
CREATED:20250721T092536Z
LAST-MODIFIED:20250721T095048Z
UID:665-1757012400-1757016000@www.leedssalsaclub.com
SUMMARY:Salsa Beginners/Improvers Class
DESCRIPTION:Salsa with Leeds Salsa Club returns to Cornerstone Baptist Church Hall! \nLocated in the Headingley and free street parking close by\, welcome back to the best salsa night in Leeds! \n7.00pm-8.00pm Beginners/Improvers \n£7pp \nYou can book online or by card/cash at the venue.
URL:https://www.leedssalsaclub.com/event/salsa-beginners-improvers-class-18/
LOCATION:Cornerstone Baptist Church Hall\, Kirkstall Ln\, Headingley\, Leeds\, LS6 3LF
CATEGORIES:Salsa Events
ATTACH;FMTTYPE=image/png:https://www.leedssalsaclub.com/wp-content/uploads/2025/04/png_20230421_081430_0000.png
END:VEVENT
BEGIN:VEVENT
DTSTART;TZID=UTC:20250902T110000
DTEND;TZID=UTC:20250902T120000
DTSTAMP:20260421T160241
CREATED:20250510T104456Z
LAST-MODIFIED:20250510T104456Z
UID:529-1756810800-1756814400@www.leedssalsaclub.com
SUMMARY:BachaFit 6 Week Course
DESCRIPTION:BachaFit 6 Week Course \n@Scarcroft Village Hall \n11am – 12pm Every Tuesday for six weeks. \nLearn a fun Bachata footwork routine over the 6 weeks\, whilst getting fit and meeting new friends! \nThis is an open level class\, everyone is welcome regardless of age\, ability and health levels. Just come and have fun! \nBachata comes from the Dominican Republic and is a lovely Latin dance to learn. \n6 Week course £40pp \nBooking is required to secure your space. \n*Refunds are not available on these courses*
URL:https://www.leedssalsaclub.com/event/bachafit-6-week-course/
LOCATION:Scarcroft Village Hall\, Wetherby Road\, Scarcroft\, LS14 3AS
CATEGORIES:Salsa Events
ATTACH;FMTTYPE=image/jpeg:https://www.leedssalsaclub.com/wp-content/uploads/2025/04/FB_IMG_1654242560488.jpg
END:VEVENT
BEGIN:VEVENT
DTSTART;TZID=UTC:20250901T190000
DTEND;TZID=UTC:20250901T200000
DTSTAMP:20260421T160241
CREATED:20250821T143814Z
LAST-MODIFIED:20250821T143814Z
UID:803-1756753200-1756756800@www.leedssalsaclub.com
SUMMARY:1:1 Class
DESCRIPTION:1:1 Classes with Leeds Salsa Club \nWanting to take your dancing to the next level? \nJust starting out and need some confidence before joining group classes? \nPrivate classes are the way to get you where you need to be in your dancing. \nLet us know what you are wanting and we will help you achieve this. \nYou can book as an individual or as a couple. \nAny questions just email us at salsatwinsuk@gmail.com \n 
URL:https://www.leedssalsaclub.com/event/11-class-18/
LOCATION:Leeds Salsa Club\, 16 St James Quay\, 4 Bowman Lane\, Leeds\, LS10 1HG
CATEGORIES:Salsa Events
ATTACH;FMTTYPE=image/jpeg:https://www.leedssalsaclub.com/wp-content/uploads/2025/04/page1_img4.jpg
END:VEVENT
BEGIN:VEVENT
DTSTART;TZID=UTC:20250901T180000
DTEND;TZID=UTC:20250901T190000
DTSTAMP:20260421T160241
CREATED:20250821T143705Z
LAST-MODIFIED:20250821T143705Z
UID:800-1756749600-1756753200@www.leedssalsaclub.com
SUMMARY:1:1 Class
DESCRIPTION:1:1 Classes with Leeds Salsa Club \nWanting to take your dancing to the next level? \nJust starting out and need some confidence before joining group classes? \nPrivate classes are the way to get you where you need to be in your dancing. \nLet us know what you are wanting and we will help you achieve this. \nYou can book as an individual or as a couple. \nAny questions just email us at salsatwinsuk@gmail.com \n 
URL:https://www.leedssalsaclub.com/event/11-class-17/
LOCATION:Leeds Salsa Club\, 16 St James Quay\, 4 Bowman Lane\, Leeds\, LS10 1HG
CATEGORIES:Salsa Events
ATTACH;FMTTYPE=image/jpeg:https://www.leedssalsaclub.com/wp-content/uploads/2025/04/page1_img4.jpg
END:VEVENT
END:VCALENDAR