BEGIN:VCALENDAR
VERSION:2.0
PRODID:-//Leeds Salsa Club - ECPv6.15.20//NONSGML v1.0//EN
CALSCALE:GREGORIAN
METHOD:PUBLISH
X-WR-CALNAME:Leeds Salsa Club
X-ORIGINAL-URL:https://www.leedssalsaclub.com
X-WR-CALDESC:Events for Leeds Salsa Club
REFRESH-INTERVAL;VALUE=DURATION:PT1H
X-Robots-Tag:noindex
X-PUBLISHED-TTL:PT1H
BEGIN:VTIMEZONE
TZID:UTC
BEGIN:STANDARD
TZOFFSETFROM:+0000
TZOFFSETTO:+0000
TZNAME:UTC
DTSTART:20240101T000000
END:STANDARD
END:VTIMEZONE
BEGIN:VEVENT
DTSTART;TZID=UTC:20260115T190000
DTEND;TZID=UTC:20260115T200000
DTSTAMP:20260421T131437
CREATED:20251210T105057Z
LAST-MODIFIED:20251210T105057Z
UID:1058-1768503600-1768507200@www.leedssalsaclub.com
SUMMARY:Salsa Beginners/Improvers Class
DESCRIPTION:Salsa with Leeds Salsa Club at the Cornerstone Baptist Church Hall! \nLocated in the Headingley and free street parking close by\, welcome back to the best salsa night in Leeds! \n7.00pm-8.00pm Beginners/Improvers \n£8pp \nYou can book online or by card/cash at the venue.
URL:https://www.leedssalsaclub.com/event/salsa-beginners-improvers-class-31/
LOCATION:Cornerstone Baptist Church Hall\, Kirkstall Ln\, Headingley\, Leeds\, LS6 3LF
CATEGORIES:Salsa Events
ATTACH;FMTTYPE=image/jpeg:https://www.leedssalsaclub.com/wp-content/uploads/2025/04/DSCF30591655111421057.jpg
END:VEVENT
BEGIN:VEVENT
DTSTART;TZID=UTC:20260109T100000
DTEND;TZID=UTC:20260109T110000
DTSTAMP:20260421T131437
CREATED:20251210T094410Z
LAST-MODIFIED:20251221T203333Z
UID:1043-1767952800-1767956400@www.leedssalsaclub.com
SUMMARY:SalsaFit 6 Week Course
DESCRIPTION:SalsaFit 6 Week Course \n@Scarcroft Village Hall \n10am – 11pm Every Friday for six weeks. \n9 January – 13 February \nLearn a fun Salsa footwork routine over the 6 weeks\, whilst getting fit and meeting new friends! \nThis is an open level class\, everyone is welcome regardless of age\, ability and health levels. Just come and have fun! \nSalsa comes from Cuba and is a lovely Latin dance to learn\, working on coordination and building stamina\, whilst having fun doing it. \n6 Week course £40pp \nBooking is required to secure your space. \n*Refunds are not available on these courses*
URL:https://www.leedssalsaclub.com/event/salsafit-6-week-course-3/
LOCATION:Scarcroft Village Hall\, Wetherby Road\, Scarcroft\, LS14 3AS
CATEGORIES:Salsa Events
ATTACH;FMTTYPE=image/jpeg:https://www.leedssalsaclub.com/wp-content/uploads/2025/04/Abi_Teaching.jpg
END:VEVENT
BEGIN:VEVENT
DTSTART;TZID=UTC:20260108T200000
DTEND;TZID=UTC:20260108T210000
DTSTAMP:20260421T131437
CREATED:20251210T111000Z
LAST-MODIFIED:20251210T111226Z
UID:1072-1767902400-1767906000@www.leedssalsaclub.com
SUMMARY:Salsa Intermediate/Advanced Class
DESCRIPTION:Salsa with Leeds Salsa Club returns to Cornerstone Baptist Church Hall! \nLocated in Headingley and free street parking close by\, welcome back to the best salsa night in Leeds! \n8.00pm-9.00pm Intermediate/Advanced \n£8pp \nYou can book online or by card/cash at the venue.
URL:https://www.leedssalsaclub.com/event/salsa-intermediate-advanced-class-30/
LOCATION:Cornerstone Baptist Church Hall\, Kirkstall Ln\, Headingley\, Leeds\, LS6 3LF
CATEGORIES:Salsa Events
ATTACH;FMTTYPE=image/jpeg:https://www.leedssalsaclub.com/wp-content/uploads/2025/04/DSCF30591655111421057-2.jpg
END:VEVENT
BEGIN:VEVENT
DTSTART;TZID=UTC:20260108T190000
DTEND;TZID=UTC:20260108T210000
DTSTAMP:20260421T131437
CREATED:20251103T100230Z
LAST-MODIFIED:20251210T105805Z
UID:963-1767898800-1767906000@www.leedssalsaclub.com
SUMMARY:Salsa Both Level Classes
DESCRIPTION:Salsa with Leeds Salsa Club returns to Cornerstone Baptist Church Hall! \nLocated in the Headingley and free street parking close by\, welcome back to the best salsa night in Leeds! \n7.00pm-8.00pm Beginners/Improvers \n8.00pm-9.00pm Intermediate/Advanced \n£12pp for both classes (only valid on same night) \nYou can book online or by card/cash at the venue.
URL:https://www.leedssalsaclub.com/event/salsa-both-level-classes-25/
LOCATION:Cornerstone Baptist Church Hall\, Kirkstall Ln\, Headingley\, Leeds\, LS6 3LF
CATEGORIES:Salsa Events
ATTACH;FMTTYPE=image/jpeg:https://www.leedssalsaclub.com/wp-content/uploads/2025/04/DSCF30591655111421057-2.jpg
END:VEVENT
BEGIN:VEVENT
DTSTART;TZID=UTC:20260108T190000
DTEND;TZID=UTC:20260108T200000
DTSTAMP:20260421T131437
CREATED:20251210T102919Z
LAST-MODIFIED:20251210T102919Z
UID:1055-1767898800-1767902400@www.leedssalsaclub.com
SUMMARY:Salsa Beginners/Improvers Class
DESCRIPTION:Salsa with Leeds Salsa Club at the Cornerstone Baptist Church Hall! \nLocated in the Headingley and free street parking close by\, welcome back to the best salsa night in Leeds! \n7.00pm-8.00pm Beginners/Improvers \n£8pp \nYou can book online or by card/cash at the venue.
URL:https://www.leedssalsaclub.com/event/salsa-beginners-improvers-class-30/
LOCATION:Cornerstone Baptist Church Hall\, Kirkstall Ln\, Headingley\, Leeds\, LS6 3LF
CATEGORIES:Salsa Events
ATTACH;FMTTYPE=image/jpeg:https://www.leedssalsaclub.com/wp-content/uploads/2025/04/DSCF30591655111421057.jpg
END:VEVENT
BEGIN:VEVENT
DTSTART;TZID=UTC:20260107T192500
DTEND;TZID=UTC:20260107T202500
DTSTAMP:20260421T131437
CREATED:20251210T095859Z
LAST-MODIFIED:20251210T095859Z
UID:1049-1767813900-1767817500@www.leedssalsaclub.com
SUMMARY:Bachata All Level 6 Week Course
DESCRIPTION:Bachata All Level 6 Week Course \nBeginners Welcome! \nStarting 7 January – 11 February \nHeld at the Dance Studio Leeds\, Mabgate Mills. \nClasses will run every Wednesday at 7.25pm. \nNo partner required. \nThere are limited spaces\, please book early to avoid disappointment. \n**Refunds are not available on courses\, where possible we may be able to move you onto another course depending on the situation and availability**
URL:https://www.leedssalsaclub.com/event/bachata-all-level-6-week-course-5/
LOCATION:Dance Studio\, Mill 6\, Mabgate mills\, Macaulay St\, Leeds\, LS9 7SW
CATEGORIES:Salsa Events
ATTACH;FMTTYPE=image/jpeg:https://www.leedssalsaclub.com/wp-content/uploads/2025/04/FB_IMG_1643798699892.jpg
ORGANIZER;CN="Leeds Salsa Club":MAILTO:salsatwinsuk@gmail.co.uk
END:VEVENT
BEGIN:VEVENT
DTSTART;TZID=UTC:20260106T110000
DTEND;TZID=UTC:20260106T120000
DTSTAMP:20260421T131437
CREATED:20251210T094641Z
LAST-MODIFIED:20251210T094641Z
UID:1046-1767697200-1767700800@www.leedssalsaclub.com
SUMMARY:BachaFit 6 Week Course
DESCRIPTION:BachaFit 6 Week Course \n@Scarcroft Village Hall \n11am – 12pm Every Tuesday for six weeks. \n6 January – 10 February \nLearn a fun Bachata footwork routine over the 6 weeks\, whilst getting fit and meeting new friends! \nThis is an open level class\, everyone is welcome regardless of age\, ability and health levels. Just come and have fun! \nBachata comes from the Dominican Republic and is a lovely Latin dance to learn. \n6 Week course £40pp \nBooking is required to secure your space. \n*Refunds are not available on these courses*
URL:https://www.leedssalsaclub.com/event/bachafit-6-week-course-3/
LOCATION:Scarcroft Village Hall\, Wetherby Road\, Scarcroft\, LS14 3AS
CATEGORIES:Salsa Events
ATTACH;FMTTYPE=image/jpeg:https://www.leedssalsaclub.com/wp-content/uploads/2025/04/FB_IMG_1654242560488.jpg
END:VEVENT
BEGIN:VEVENT
DTSTART;TZID=UTC:20251211T190000
DTEND;TZID=UTC:20251211T210000
DTSTAMP:20260421T131437
CREATED:20251103T103120Z
LAST-MODIFIED:20251103T103120Z
UID:995-1765479600-1765486800@www.leedssalsaclub.com
SUMMARY:Salsa Christmas Party!
DESCRIPTION:It’s time for our Christmas Party! \nJoin us for a festive all level salsa class followed by an hour social party! \nClass starts at 7pm followed by social at 8pm. Event will finish at 9pm. \nBring our own drinks and festive spirit! \n£10 per person for the event. \nYou can book online or pay on the door by cash or card.
URL:https://www.leedssalsaclub.com/event/salsa-christmas-party/
CATEGORIES:Salsa Events
ATTACH;FMTTYPE=image/png:https://www.leedssalsaclub.com/wp-content/uploads/2025/11/Green-White-Elegant-Classy-Christmas-Greetings-Instagram-Post.png
END:VEVENT
BEGIN:VEVENT
DTSTART;TZID=UTC:20251204T200000
DTEND;TZID=UTC:20251204T210000
DTSTAMP:20260421T131437
CREATED:20251103T101333Z
LAST-MODIFIED:20251103T101333Z
UID:992-1764878400-1764882000@www.leedssalsaclub.com
SUMMARY:Salsa Intermediate/Advanced Class
DESCRIPTION:Salsa with Leeds Salsa Club returns to Cornerstone Baptist Church Hall! \nLocated in Headingley and free street parking close by\, welcome back to the best salsa night in Leeds! \n8.00pm-9.00pm Intermediate/Advanced \n£7pp \nYou can book online or by card/cash at the venue.
URL:https://www.leedssalsaclub.com/event/salsa-intermediate-advanced-class-29/
LOCATION:Cornerstone Baptist Church Hall\, Kirkstall Ln\, Headingley\, Leeds\, LS6 3LF
CATEGORIES:Salsa Events
ATTACH;FMTTYPE=image/png:https://www.leedssalsaclub.com/wp-content/uploads/2025/04/png_20230421_081430_0000.png
END:VEVENT
BEGIN:VEVENT
DTSTART;TZID=UTC:20251204T190000
DTEND;TZID=UTC:20251204T210000
DTSTAMP:20260421T131437
CREATED:20251103T100534Z
LAST-MODIFIED:20251103T100534Z
UID:975-1764874800-1764882000@www.leedssalsaclub.com
SUMMARY:Salsa Both Level Classes
DESCRIPTION:Salsa with Leeds Salsa Club returns to Cornerstone Baptist Church Hall! \nLocated in the Headingley and free street parking close by\, welcome back to the best salsa night in Leeds! \n7.00pm-8.00pm Beginners/Improvers \n8.00pm-9.00pm Intermediate/Advanced \n£10pp for both classes (only valid on same night) \nYou can book online or by card/cash at the venue.
URL:https://www.leedssalsaclub.com/event/salsa-both-level-classes-29/
LOCATION:Cornerstone Baptist Church Hall\, Kirkstall Ln\, Headingley\, Leeds\, LS6 3LF
CATEGORIES:Salsa Events
ATTACH;FMTTYPE=image/png:https://www.leedssalsaclub.com/wp-content/uploads/2025/04/png_20230421_081430_0000.png
END:VEVENT
BEGIN:VEVENT
DTSTART;TZID=UTC:20251204T190000
DTEND;TZID=UTC:20251204T200000
DTSTAMP:20260421T131437
CREATED:20251103T095941Z
LAST-MODIFIED:20251103T095941Z
UID:958-1764874800-1764878400@www.leedssalsaclub.com
SUMMARY:Salsa Beginners/Improvers Class
DESCRIPTION:Salsa with Leeds Salsa Club returns to Cornerstone Baptist Church Hall! \nLocated in the Headingley and free street parking close by\, welcome back to the best salsa night in Leeds! \n7.00pm-8.00pm Beginners/Improvers \n£7pp \nYou can book online or by card/cash at the venue.
URL:https://www.leedssalsaclub.com/event/salsa-beginners-improvers-class-29/
LOCATION:Cornerstone Baptist Church Hall\, Kirkstall Ln\, Headingley\, Leeds\, LS6 3LF
CATEGORIES:Salsa Events
ATTACH;FMTTYPE=image/png:https://www.leedssalsaclub.com/wp-content/uploads/2025/04/png_20230421_081430_0000.png
END:VEVENT
BEGIN:VEVENT
DTSTART;TZID=UTC:20251127T200000
DTEND;TZID=UTC:20251127T210000
DTSTAMP:20260421T131437
CREATED:20251103T101155Z
LAST-MODIFIED:20251103T101155Z
UID:989-1764273600-1764277200@www.leedssalsaclub.com
SUMMARY:Salsa Intermediate/Advanced Class
DESCRIPTION:Salsa with Leeds Salsa Club returns to Cornerstone Baptist Church Hall! \nLocated in Headingley and free street parking close by\, welcome back to the best salsa night in Leeds! \n8.00pm-9.00pm Intermediate/Advanced \n£7pp \nYou can book online or by card/cash at the venue.
URL:https://www.leedssalsaclub.com/event/salsa-intermediate-advanced-class-28/
LOCATION:Cornerstone Baptist Church Hall\, Kirkstall Ln\, Headingley\, Leeds\, LS6 3LF
CATEGORIES:Salsa Events
ATTACH;FMTTYPE=image/png:https://www.leedssalsaclub.com/wp-content/uploads/2025/04/png_20230421_081430_0000.png
END:VEVENT
BEGIN:VEVENT
DTSTART;TZID=UTC:20251127T190000
DTEND;TZID=UTC:20251127T210000
DTSTAMP:20260421T131437
CREATED:20251103T100446Z
LAST-MODIFIED:20251103T100446Z
UID:972-1764270000-1764277200@www.leedssalsaclub.com
SUMMARY:Salsa Both Level Classes
DESCRIPTION:Salsa with Leeds Salsa Club returns to Cornerstone Baptist Church Hall! \nLocated in the Headingley and free street parking close by\, welcome back to the best salsa night in Leeds! \n7.00pm-8.00pm Beginners/Improvers \n8.00pm-9.00pm Intermediate/Advanced \n£10pp for both classes (only valid on same night) \nYou can book online or by card/cash at the venue.
URL:https://www.leedssalsaclub.com/event/salsa-both-level-classes-28/
LOCATION:Cornerstone Baptist Church Hall\, Kirkstall Ln\, Headingley\, Leeds\, LS6 3LF
CATEGORIES:Salsa Events
ATTACH;FMTTYPE=image/png:https://www.leedssalsaclub.com/wp-content/uploads/2025/04/png_20230421_081430_0000.png
END:VEVENT
BEGIN:VEVENT
DTSTART;TZID=UTC:20251127T190000
DTEND;TZID=UTC:20251127T200000
DTSTAMP:20260421T131437
CREATED:20251103T095739Z
LAST-MODIFIED:20251103T095739Z
UID:955-1764270000-1764273600@www.leedssalsaclub.com
SUMMARY:Salsa Beginners/Improvers Class
DESCRIPTION:Salsa with Leeds Salsa Club returns to Cornerstone Baptist Church Hall! \nLocated in the Headingley and free street parking close by\, welcome back to the best salsa night in Leeds! \n7.00pm-8.00pm Beginners/Improvers \n£7pp \nYou can book online or by card/cash at the venue.
URL:https://www.leedssalsaclub.com/event/salsa-beginners-improvers-class-28/
LOCATION:Cornerstone Baptist Church Hall\, Kirkstall Ln\, Headingley\, Leeds\, LS6 3LF
CATEGORIES:Salsa Events
ATTACH;FMTTYPE=image/png:https://www.leedssalsaclub.com/wp-content/uploads/2025/04/png_20230421_081430_0000.png
END:VEVENT
BEGIN:VEVENT
DTSTART;TZID=UTC:20251120T200000
DTEND;TZID=UTC:20251120T210000
DTSTAMP:20260421T131437
CREATED:20251103T101101Z
LAST-MODIFIED:20251103T101101Z
UID:986-1763668800-1763672400@www.leedssalsaclub.com
SUMMARY:Salsa Intermediate/Advanced Class
DESCRIPTION:Salsa with Leeds Salsa Club returns to Cornerstone Baptist Church Hall! \nLocated in Headingley and free street parking close by\, welcome back to the best salsa night in Leeds! \n8.00pm-9.00pm Intermediate/Advanced \n£7pp \nYou can book online or by card/cash at the venue.
URL:https://www.leedssalsaclub.com/event/salsa-intermediate-advanced-class-27/
LOCATION:Cornerstone Baptist Church Hall\, Kirkstall Ln\, Headingley\, Leeds\, LS6 3LF
CATEGORIES:Salsa Events
ATTACH;FMTTYPE=image/png:https://www.leedssalsaclub.com/wp-content/uploads/2025/04/png_20230421_081430_0000.png
END:VEVENT
BEGIN:VEVENT
DTSTART;TZID=UTC:20251120T190000
DTEND;TZID=UTC:20251120T210000
DTSTAMP:20260421T131437
CREATED:20251103T100408Z
LAST-MODIFIED:20251103T100408Z
UID:969-1763665200-1763672400@www.leedssalsaclub.com
SUMMARY:Salsa Both Level Classes
DESCRIPTION:Salsa with Leeds Salsa Club returns to Cornerstone Baptist Church Hall! \nLocated in the Headingley and free street parking close by\, welcome back to the best salsa night in Leeds! \n7.00pm-8.00pm Beginners/Improvers \n8.00pm-9.00pm Intermediate/Advanced \n£10pp for both classes (only valid on same night) \nYou can book online or by card/cash at the venue.
URL:https://www.leedssalsaclub.com/event/salsa-both-level-classes-27/
LOCATION:Cornerstone Baptist Church Hall\, Kirkstall Ln\, Headingley\, Leeds\, LS6 3LF
CATEGORIES:Salsa Events
ATTACH;FMTTYPE=image/png:https://www.leedssalsaclub.com/wp-content/uploads/2025/04/png_20230421_081430_0000.png
END:VEVENT
BEGIN:VEVENT
DTSTART;TZID=UTC:20251120T190000
DTEND;TZID=UTC:20251120T200000
DTSTAMP:20260421T131437
CREATED:20251103T095652Z
LAST-MODIFIED:20251103T095652Z
UID:952-1763665200-1763668800@www.leedssalsaclub.com
SUMMARY:Salsa Beginners/Improvers Class
DESCRIPTION:Salsa with Leeds Salsa Club returns to Cornerstone Baptist Church Hall! \nLocated in the Headingley and free street parking close by\, welcome back to the best salsa night in Leeds! \n7.00pm-8.00pm Beginners/Improvers \n£7pp \nYou can book online or by card/cash at the venue.
URL:https://www.leedssalsaclub.com/event/salsa-beginners-improvers-class-27/
LOCATION:Cornerstone Baptist Church Hall\, Kirkstall Ln\, Headingley\, Leeds\, LS6 3LF
CATEGORIES:Salsa Events
ATTACH;FMTTYPE=image/png:https://www.leedssalsaclub.com/wp-content/uploads/2025/04/png_20230421_081430_0000.png
END:VEVENT
BEGIN:VEVENT
DTSTART;TZID=UTC:20251113T200000
DTEND;TZID=UTC:20251113T210000
DTSTAMP:20260421T131437
CREATED:20251103T101006Z
LAST-MODIFIED:20251103T101006Z
UID:983-1763064000-1763067600@www.leedssalsaclub.com
SUMMARY:Salsa Intermediate/Advanced Class
DESCRIPTION:Salsa with Leeds Salsa Club returns to Cornerstone Baptist Church Hall! \nLocated in Headingley and free street parking close by\, welcome back to the best salsa night in Leeds! \n8.00pm-9.00pm Intermediate/Advanced \n£7pp \nYou can book online or by card/cash at the venue.
URL:https://www.leedssalsaclub.com/event/salsa-intermediate-advanced-class-26/
LOCATION:Cornerstone Baptist Church Hall\, Kirkstall Ln\, Headingley\, Leeds\, LS6 3LF
CATEGORIES:Salsa Events
ATTACH;FMTTYPE=image/png:https://www.leedssalsaclub.com/wp-content/uploads/2025/04/png_20230421_081430_0000.png
END:VEVENT
BEGIN:VEVENT
DTSTART;TZID=UTC:20251113T190000
DTEND;TZID=UTC:20251113T210000
DTSTAMP:20260421T131437
CREATED:20251103T100312Z
LAST-MODIFIED:20251103T100312Z
UID:966-1763060400-1763067600@www.leedssalsaclub.com
SUMMARY:Salsa Both Level Classes
DESCRIPTION:Salsa with Leeds Salsa Club returns to Cornerstone Baptist Church Hall! \nLocated in the Headingley and free street parking close by\, welcome back to the best salsa night in Leeds! \n7.00pm-8.00pm Beginners/Improvers \n8.00pm-9.00pm Intermediate/Advanced \n£10pp for both classes (only valid on same night) \nYou can book online or by card/cash at the venue.
URL:https://www.leedssalsaclub.com/event/salsa-both-level-classes-26/
LOCATION:Cornerstone Baptist Church Hall\, Kirkstall Ln\, Headingley\, Leeds\, LS6 3LF
CATEGORIES:Salsa Events
ATTACH;FMTTYPE=image/png:https://www.leedssalsaclub.com/wp-content/uploads/2025/04/png_20230421_081430_0000.png
END:VEVENT
BEGIN:VEVENT
DTSTART;TZID=UTC:20251113T190000
DTEND;TZID=UTC:20251113T200000
DTSTAMP:20260421T131437
CREATED:20251103T095606Z
LAST-MODIFIED:20251103T095606Z
UID:949-1763060400-1763064000@www.leedssalsaclub.com
SUMMARY:Salsa Beginners/Improvers Class
DESCRIPTION:Salsa with Leeds Salsa Club returns to Cornerstone Baptist Church Hall! \nLocated in the Headingley and free street parking close by\, welcome back to the best salsa night in Leeds! \n7.00pm-8.00pm Beginners/Improvers \n£7pp \nYou can book online or by card/cash at the venue.
URL:https://www.leedssalsaclub.com/event/salsa-beginners-improvers-class-26/
LOCATION:Cornerstone Baptist Church Hall\, Kirkstall Ln\, Headingley\, Leeds\, LS6 3LF
CATEGORIES:Salsa Events
ATTACH;FMTTYPE=image/png:https://www.leedssalsaclub.com/wp-content/uploads/2025/04/png_20230421_081430_0000.png
END:VEVENT
BEGIN:VEVENT
DTSTART;TZID=UTC:20251111T110000
DTEND;TZID=UTC:20251111T120000
DTSTAMP:20260421T131437
CREATED:20250913T151431Z
LAST-MODIFIED:20251108T161742Z
UID:889-1762858800-1762862400@www.leedssalsaclub.com
SUMMARY:SalsaFit 6 Week Course
DESCRIPTION:SalsaFit 6 Week Course \n@Scarcroft Village Hall \n11am – 12pm Every Tuesday for six weeks. \nLearn a fun Salsa footwork routine over the 6 weeks\, whilst getting fit and meeting new friends! \nThis is an open level class\, everyone is welcome regardless of age\, ability and health levels. Just come and have fun! \nSalsa comes from Cuba and is a lovely Latin dance to learn\, working on coordination and building stamina\, whilst having fun doing it. \n6 Week course £40pp \nBooking is required to secure your space. \n*Refunds are not available on these courses*
URL:https://www.leedssalsaclub.com/event/salsafit-6-week-course-2/
LOCATION:Scarcroft Village Hall\, Wetherby Road\, Scarcroft\, LS14 3AS
CATEGORIES:Salsa Events
ATTACH;FMTTYPE=image/jpeg:https://www.leedssalsaclub.com/wp-content/uploads/2025/04/Abi_Teaching.jpg
END:VEVENT
BEGIN:VEVENT
DTSTART;TZID=UTC:20251107T110000
DTEND;TZID=UTC:20251107T120000
DTSTAMP:20260421T131437
CREATED:20250913T151214Z
LAST-MODIFIED:20250913T155457Z
UID:886-1762513200-1762516800@www.leedssalsaclub.com
SUMMARY:BachaFit 6 Week Course
DESCRIPTION:BachaFit 6 Week Course \n@Scarcroft Village Hall \n10am – 11am Every Friday for six weeks. \nLearn a fun Bachata footwork routine over the 6 weeks\, whilst getting fit and meeting new friends! \nThis is an open level class\, everyone is welcome regardless of age\, ability and health levels. Just come and have fun! \nBachata comes from the Dominican Republic and is a lovely Latin dance to learn. \n6 Week course £40pp \nBooking is required to secure your space. \n*Refunds are not available on these courses*
URL:https://www.leedssalsaclub.com/event/bachafit-6-week-course-2/
LOCATION:Scarcroft Village Hall\, Wetherby Road\, Scarcroft\, LS14 3AS
CATEGORIES:Salsa Events
ATTACH;FMTTYPE=image/jpeg:https://www.leedssalsaclub.com/wp-content/uploads/2025/04/FB_IMG_1654242560488.jpg
END:VEVENT
BEGIN:VEVENT
DTSTART;TZID=UTC:20251106T200000
DTEND;TZID=UTC:20251106T210000
DTSTAMP:20260421T131437
CREATED:20251103T100841Z
LAST-MODIFIED:20251103T100841Z
UID:980-1762459200-1762462800@www.leedssalsaclub.com
SUMMARY:Salsa Intermediate/Advanced Class
DESCRIPTION:Salsa with Leeds Salsa Club returns to Cornerstone Baptist Church Hall! \nLocated in Headingley and free street parking close by\, welcome back to the best salsa night in Leeds! \n8.00pm-9.00pm Intermediate/Advanced \n£7pp \nYou can book online or by card/cash at the venue.
URL:https://www.leedssalsaclub.com/event/salsa-intermediate-advanced-class-25/
LOCATION:Cornerstone Baptist Church Hall\, Kirkstall Ln\, Headingley\, Leeds\, LS6 3LF
CATEGORIES:Salsa Events
ATTACH;FMTTYPE=image/png:https://www.leedssalsaclub.com/wp-content/uploads/2025/04/png_20230421_081430_0000.png
END:VEVENT
BEGIN:VEVENT
DTSTART;TZID=UTC:20251106T190000
DTEND;TZID=UTC:20251106T200000
DTSTAMP:20260421T131437
CREATED:20251103T095447Z
LAST-MODIFIED:20251103T095447Z
UID:946-1762455600-1762459200@www.leedssalsaclub.com
SUMMARY:Salsa Beginners/Improvers Class
DESCRIPTION:Salsa with Leeds Salsa Club returns to Cornerstone Baptist Church Hall! \nLocated in the Headingley and free street parking close by\, welcome back to the best salsa night in Leeds! \n7.00pm-8.00pm Beginners/Improvers \n£7pp \nYou can book online or by card/cash at the venue.
URL:https://www.leedssalsaclub.com/event/salsa-beginners-improvers-class-25/
LOCATION:Cornerstone Baptist Church Hall\, Kirkstall Ln\, Headingley\, Leeds\, LS6 3LF
CATEGORIES:Salsa Events
ATTACH;FMTTYPE=image/png:https://www.leedssalsaclub.com/wp-content/uploads/2025/04/png_20230421_081430_0000.png
END:VEVENT
BEGIN:VEVENT
DTSTART;TZID=UTC:20251105T192500
DTEND;TZID=UTC:20251105T202500
DTSTAMP:20260421T131437
CREATED:20250901T145245Z
LAST-MODIFIED:20250901T145245Z
UID:868-1762370700-1762374300@www.leedssalsaclub.com
SUMMARY:Bachata All Level 6 Week Course
DESCRIPTION:Bachata All Level 6 Week Course \nBeginners Welcome! \nStarting 5 November – 10 December \nHeld at the Dance Studio Leeds\, Mabgate Mills. \nClasses will run every Wednesday at 7.25pm. \nNo partner required. \nThere are limited spaces\, please book early to avoid disappointment. \n**Refunds are not available on courses\, where possible we may be able to move you onto another course depending on the situation and availability**
URL:https://www.leedssalsaclub.com/event/bachata-all-level-6-week-course-4/
LOCATION:Dance Studio\, Mill 6\, Mabgate mills\, Macaulay St\, Leeds\, LS9 7SW
CATEGORIES:Salsa Events
ATTACH;FMTTYPE=image/jpeg:https://www.leedssalsaclub.com/wp-content/uploads/2025/04/FB_IMG_1643798699892.jpg
ORGANIZER;CN="Leeds Salsa Club":MAILTO:salsatwinsuk@gmail.co.uk
END:VEVENT
BEGIN:VEVENT
DTSTART;TZID=UTC:20251030T200000
DTEND;TZID=UTC:20251030T210000
DTSTAMP:20260421T131437
CREATED:20250901T144950Z
LAST-MODIFIED:20250901T144950Z
UID:865-1761854400-1761858000@www.leedssalsaclub.com
SUMMARY:Salsa Intermediate/Advanced Class
DESCRIPTION:Salsa with Leeds Salsa Club returns to Cornerstone Baptist Church Hall! \nLocated in Headingley and free street parking close by\, welcome back to the best salsa night in Leeds! \n8.00pm-9.00pm Intermediate/Advanced \n£7pp \nYou can book online or by card/cash at the venue.
URL:https://www.leedssalsaclub.com/event/salsa-intermediate-advanced-class-24/
LOCATION:Cornerstone Baptist Church Hall\, Kirkstall Ln\, Headingley\, Leeds\, LS6 3LF
CATEGORIES:Salsa Events
ATTACH;FMTTYPE=image/png:https://www.leedssalsaclub.com/wp-content/uploads/2025/04/png_20230421_081430_0000.png
END:VEVENT
BEGIN:VEVENT
DTSTART;TZID=UTC:20251030T190000
DTEND;TZID=UTC:20251030T210000
DTSTAMP:20260421T131437
CREATED:20250901T144835Z
LAST-MODIFIED:20250901T144835Z
UID:862-1761850800-1761858000@www.leedssalsaclub.com
SUMMARY:Salsa Both Level Classes
DESCRIPTION:Salsa with Leeds Salsa Club returns to Cornerstone Baptist Church Hall! \nLocated in the Headingley and free street parking close by\, welcome back to the best salsa night in Leeds! \n7.00pm-8.00pm Beginners/Improvers \n8.00pm-9.00pm Intermediate/Advanced \n£10pp for both classes (only valid on same night) \nYou can book online or by card/cash at the venue.
URL:https://www.leedssalsaclub.com/event/salsa-both-level-classes-24/
LOCATION:Cornerstone Baptist Church Hall\, Kirkstall Ln\, Headingley\, Leeds\, LS6 3LF
CATEGORIES:Salsa Events
ATTACH;FMTTYPE=image/png:https://www.leedssalsaclub.com/wp-content/uploads/2025/04/png_20230421_081430_0000.png
END:VEVENT
BEGIN:VEVENT
DTSTART;TZID=UTC:20251030T190000
DTEND;TZID=UTC:20251030T200000
DTSTAMP:20260421T131437
CREATED:20250901T144733Z
LAST-MODIFIED:20250901T144733Z
UID:859-1761850800-1761854400@www.leedssalsaclub.com
SUMMARY:Salsa Beginners/Improvers Class
DESCRIPTION:Salsa with Leeds Salsa Club returns to Cornerstone Baptist Church Hall! \nLocated in the Headingley and free street parking close by\, welcome back to the best salsa night in Leeds! \n7.00pm-8.00pm Beginners/Improvers \n£7pp \nYou can book online or by card/cash at the venue.
URL:https://www.leedssalsaclub.com/event/salsa-beginners-improvers-class-24/
LOCATION:Cornerstone Baptist Church Hall\, Kirkstall Ln\, Headingley\, Leeds\, LS6 3LF
CATEGORIES:Salsa Events
ATTACH;FMTTYPE=image/png:https://www.leedssalsaclub.com/wp-content/uploads/2025/04/png_20230421_081430_0000.png
END:VEVENT
BEGIN:VEVENT
DTSTART;TZID=UTC:20251023T200000
DTEND;TZID=UTC:20251023T210000
DTSTAMP:20260421T131437
CREATED:20250901T144620Z
LAST-MODIFIED:20250901T144620Z
UID:856-1761249600-1761253200@www.leedssalsaclub.com
SUMMARY:Salsa Intermediate/Advanced Class
DESCRIPTION:Salsa with Leeds Salsa Club returns to Cornerstone Baptist Church Hall! \nLocated in Headingley and free street parking close by\, welcome back to the best salsa night in Leeds! \n8.00pm-9.00pm Intermediate/Advanced \n£7pp \nYou can book online or by card/cash at the venue.
URL:https://www.leedssalsaclub.com/event/salsa-intermediate-advanced-class-23/
LOCATION:Cornerstone Baptist Church Hall\, Kirkstall Ln\, Headingley\, Leeds\, LS6 3LF
CATEGORIES:Salsa Events
ATTACH;FMTTYPE=image/png:https://www.leedssalsaclub.com/wp-content/uploads/2025/04/png_20230421_081430_0000.png
END:VEVENT
BEGIN:VEVENT
DTSTART;TZID=UTC:20251023T190000
DTEND;TZID=UTC:20251023T210000
DTSTAMP:20260421T131437
CREATED:20250901T144423Z
LAST-MODIFIED:20250901T144423Z
UID:853-1761246000-1761253200@www.leedssalsaclub.com
SUMMARY:Salsa Both Level Classes
DESCRIPTION:Salsa with Leeds Salsa Club returns to Cornerstone Baptist Church Hall! \nLocated in the Headingley and free street parking close by\, welcome back to the best salsa night in Leeds! \n7.00pm-8.00pm Beginners/Improvers \n8.00pm-9.00pm Intermediate/Advanced \n£10pp for both classes (only valid on same night) \nYou can book online or by card/cash at the venue.
URL:https://www.leedssalsaclub.com/event/salsa-both-level-classes-23/
LOCATION:Cornerstone Baptist Church Hall\, Kirkstall Ln\, Headingley\, Leeds\, LS6 3LF
CATEGORIES:Salsa Events
ATTACH;FMTTYPE=image/png:https://www.leedssalsaclub.com/wp-content/uploads/2025/04/png_20230421_081430_0000.png
END:VEVENT
END:VCALENDAR