BEGIN:VCALENDAR
VERSION:2.0
PRODID:-//Leeds Salsa Club - ECPv6.15.20//NONSGML v1.0//EN
CALSCALE:GREGORIAN
METHOD:PUBLISH
X-WR-CALNAME:Leeds Salsa Club
X-ORIGINAL-URL:https://www.leedssalsaclub.com
X-WR-CALDESC:Events for Leeds Salsa Club
REFRESH-INTERVAL;VALUE=DURATION:PT1H
X-Robots-Tag:noindex
X-PUBLISHED-TTL:PT1H
BEGIN:VTIMEZONE
TZID:UTC
BEGIN:STANDARD
TZOFFSETFROM:+0000
TZOFFSETTO:+0000
TZNAME:UTC
DTSTART:20240101T000000
END:STANDARD
END:VTIMEZONE
BEGIN:VEVENT
DTSTART;TZID=UTC:20250905T100000
DTEND;TZID=UTC:20250905T110000
DTSTAMP:20260421T230906
CREATED:20250510T104928Z
LAST-MODIFIED:20250510T104928Z
UID:532-1757066400-1757070000@www.leedssalsaclub.com
SUMMARY:SalsaFit 6 Week Course
DESCRIPTION:SalsaFit 6 Week Course \n@Scarcroft Village Hall \n10am – 11pm Every Friday for six weeks. \nLearn a fun Salsa footwork routine over the 6 weeks\, whilst getting fit and meeting new friends! \nThis is an open level class\, everyone is welcome regardless of age\, ability and health levels. Just come and have fun! \nSalsa comes from Cuba and is a lovely Latin dance to learn\, working on coordination and building stamina\, whilst having fun doing it. \n6 Week course £40pp \nBooking is required to secure your space. \n*Refunds are not available on these courses*
URL:https://www.leedssalsaclub.com/event/salsafit-6-week-course/
LOCATION:Scarcroft Village Hall\, Wetherby Road\, Scarcroft\, LS14 3AS
CATEGORIES:Salsa Events
ATTACH;FMTTYPE=image/jpeg:https://www.leedssalsaclub.com/wp-content/uploads/2025/04/Abi_Teaching.jpg
END:VEVENT
BEGIN:VEVENT
DTSTART;TZID=UTC:20250904T200000
DTEND;TZID=UTC:20250904T210000
DTSTAMP:20260421T230906
CREATED:20250721T094158Z
LAST-MODIFIED:20250721T094158Z
UID:701-1757016000-1757019600@www.leedssalsaclub.com
SUMMARY:Salsa Intermediate/Advanced Class
DESCRIPTION:Salsa with Leeds Salsa Club returns to Cornerstone Baptist Church Hall! \nLocated in Headingley and free street parking close by\, welcome back to the best salsa night in Leeds! \n8.00pm-9.00pm Intermediate/Advanced \n£7pp \nYou can book online or by card/cash at the venue.
URL:https://www.leedssalsaclub.com/event/salsa-intermediate-advanced-class-18/
LOCATION:Cornerstone Baptist Church Hall\, Kirkstall Ln\, Headingley\, Leeds\, LS6 3LF
CATEGORIES:Salsa Events
ATTACH;FMTTYPE=image/png:https://www.leedssalsaclub.com/wp-content/uploads/2025/04/png_20230421_081430_0000.png
END:VEVENT
BEGIN:VEVENT
DTSTART;TZID=UTC:20250904T190000
DTEND;TZID=UTC:20250904T210000
DTSTAMP:20260421T230906
CREATED:20250721T093359Z
LAST-MODIFIED:20250721T095022Z
UID:681-1757012400-1757019600@www.leedssalsaclub.com
SUMMARY:Salsa Both Level Classes
DESCRIPTION:Salsa with Leeds Salsa Club returns to Cornerstone Baptist Church Hall! \nLocated in the Headingley and free street parking close by\, welcome back to the best salsa night in Leeds! \n7.00pm-8.00pm Beginners/Improvers \n8.00pm-9.00pm Intermediate/Advanced \n£10pp for both classes (only valid on same night) \nYou can book online or by card/cash at the venue.
URL:https://www.leedssalsaclub.com/event/salsa-both-level-classes-18/
LOCATION:Cornerstone Baptist Church Hall\, Kirkstall Ln\, Headingley\, Leeds\, LS6 3LF
CATEGORIES:Salsa Events
ATTACH;FMTTYPE=image/png:https://www.leedssalsaclub.com/wp-content/uploads/2025/04/png_20230421_081430_0000.png
END:VEVENT
BEGIN:VEVENT
DTSTART;TZID=UTC:20250904T190000
DTEND;TZID=UTC:20250904T200000
DTSTAMP:20260421T230906
CREATED:20250721T092536Z
LAST-MODIFIED:20250721T095048Z
UID:665-1757012400-1757016000@www.leedssalsaclub.com
SUMMARY:Salsa Beginners/Improvers Class
DESCRIPTION:Salsa with Leeds Salsa Club returns to Cornerstone Baptist Church Hall! \nLocated in the Headingley and free street parking close by\, welcome back to the best salsa night in Leeds! \n7.00pm-8.00pm Beginners/Improvers \n£7pp \nYou can book online or by card/cash at the venue.
URL:https://www.leedssalsaclub.com/event/salsa-beginners-improvers-class-18/
LOCATION:Cornerstone Baptist Church Hall\, Kirkstall Ln\, Headingley\, Leeds\, LS6 3LF
CATEGORIES:Salsa Events
ATTACH;FMTTYPE=image/png:https://www.leedssalsaclub.com/wp-content/uploads/2025/04/png_20230421_081430_0000.png
END:VEVENT
BEGIN:VEVENT
DTSTART;TZID=UTC:20250902T110000
DTEND;TZID=UTC:20250902T120000
DTSTAMP:20260421T230906
CREATED:20250510T104456Z
LAST-MODIFIED:20250510T104456Z
UID:529-1756810800-1756814400@www.leedssalsaclub.com
SUMMARY:BachaFit 6 Week Course
DESCRIPTION:BachaFit 6 Week Course \n@Scarcroft Village Hall \n11am – 12pm Every Tuesday for six weeks. \nLearn a fun Bachata footwork routine over the 6 weeks\, whilst getting fit and meeting new friends! \nThis is an open level class\, everyone is welcome regardless of age\, ability and health levels. Just come and have fun! \nBachata comes from the Dominican Republic and is a lovely Latin dance to learn. \n6 Week course £40pp \nBooking is required to secure your space. \n*Refunds are not available on these courses*
URL:https://www.leedssalsaclub.com/event/bachafit-6-week-course/
LOCATION:Scarcroft Village Hall\, Wetherby Road\, Scarcroft\, LS14 3AS
CATEGORIES:Salsa Events
ATTACH;FMTTYPE=image/jpeg:https://www.leedssalsaclub.com/wp-content/uploads/2025/04/FB_IMG_1654242560488.jpg
END:VEVENT
BEGIN:VEVENT
DTSTART;TZID=UTC:20250901T190000
DTEND;TZID=UTC:20250901T200000
DTSTAMP:20260421T230906
CREATED:20250821T143814Z
LAST-MODIFIED:20250821T143814Z
UID:803-1756753200-1756756800@www.leedssalsaclub.com
SUMMARY:1:1 Class
DESCRIPTION:1:1 Classes with Leeds Salsa Club \nWanting to take your dancing to the next level? \nJust starting out and need some confidence before joining group classes? \nPrivate classes are the way to get you where you need to be in your dancing. \nLet us know what you are wanting and we will help you achieve this. \nYou can book as an individual or as a couple. \nAny questions just email us at salsatwinsuk@gmail.com \n 
URL:https://www.leedssalsaclub.com/event/11-class-18/
LOCATION:Leeds Salsa Club\, 16 St James Quay\, 4 Bowman Lane\, Leeds\, LS10 1HG
CATEGORIES:Salsa Events
ATTACH;FMTTYPE=image/jpeg:https://www.leedssalsaclub.com/wp-content/uploads/2025/04/page1_img4.jpg
END:VEVENT
BEGIN:VEVENT
DTSTART;TZID=UTC:20250901T180000
DTEND;TZID=UTC:20250901T190000
DTSTAMP:20260421T230906
CREATED:20250821T143705Z
LAST-MODIFIED:20250821T143705Z
UID:800-1756749600-1756753200@www.leedssalsaclub.com
SUMMARY:1:1 Class
DESCRIPTION:1:1 Classes with Leeds Salsa Club \nWanting to take your dancing to the next level? \nJust starting out and need some confidence before joining group classes? \nPrivate classes are the way to get you where you need to be in your dancing. \nLet us know what you are wanting and we will help you achieve this. \nYou can book as an individual or as a couple. \nAny questions just email us at salsatwinsuk@gmail.com \n 
URL:https://www.leedssalsaclub.com/event/11-class-17/
LOCATION:Leeds Salsa Club\, 16 St James Quay\, 4 Bowman Lane\, Leeds\, LS10 1HG
CATEGORIES:Salsa Events
ATTACH;FMTTYPE=image/jpeg:https://www.leedssalsaclub.com/wp-content/uploads/2025/04/page1_img4.jpg
END:VEVENT
BEGIN:VEVENT
DTSTART;TZID=UTC:20250829T190000
DTEND;TZID=UTC:20250829T200000
DTSTAMP:20260421T230906
CREATED:20250821T143526Z
LAST-MODIFIED:20250821T143526Z
UID:797-1756494000-1756497600@www.leedssalsaclub.com
SUMMARY:1:1 Class
DESCRIPTION:1:1 Classes with Leeds Salsa Club \nWanting to take your dancing to the next level? \nJust starting out and need some confidence before joining group classes? \nPrivate classes are the way to get you where you need to be in your dancing. \nLet us know what you are wanting and we will help you achieve this. \nYou can book as an individual or as a couple. \nAny questions just email us at salsatwinsuk@gmail.com \n 
URL:https://www.leedssalsaclub.com/event/11-class-16/
LOCATION:Leeds Salsa Club\, 16 St James Quay\, 4 Bowman Lane\, Leeds\, LS10 1HG
CATEGORIES:Salsa Events
ATTACH;FMTTYPE=image/jpeg:https://www.leedssalsaclub.com/wp-content/uploads/2025/04/page1_img4.jpg
END:VEVENT
BEGIN:VEVENT
DTSTART;TZID=UTC:20250829T180000
DTEND;TZID=UTC:20250829T190000
DTSTAMP:20260421T230906
CREATED:20250821T143405Z
LAST-MODIFIED:20250821T143405Z
UID:794-1756490400-1756494000@www.leedssalsaclub.com
SUMMARY:1:1 Class
DESCRIPTION:1:1 Classes with Leeds Salsa Club \nWanting to take your dancing to the next level? \nJust starting out and need some confidence before joining group classes? \nPrivate classes are the way to get you where you need to be in your dancing. \nLet us know what you are wanting and we will help you achieve this. \nYou can book as an individual or as a couple. \nAny questions just email us at salsatwinsuk@gmail.com \n 
URL:https://www.leedssalsaclub.com/event/11-class-15/
LOCATION:Leeds Salsa Club\, 16 St James Quay\, 4 Bowman Lane\, Leeds\, LS10 1HG
CATEGORIES:Salsa Events
ATTACH;FMTTYPE=image/jpeg:https://www.leedssalsaclub.com/wp-content/uploads/2025/04/page1_img4.jpg
END:VEVENT
BEGIN:VEVENT
DTSTART;TZID=UTC:20250828T200000
DTEND;TZID=UTC:20250828T210000
DTSTAMP:20260421T230906
CREATED:20250721T094028Z
LAST-MODIFIED:20250721T094028Z
UID:698-1756411200-1756414800@www.leedssalsaclub.com
SUMMARY:Salsa Intermediate/Advanced Class
DESCRIPTION:Salsa with Leeds Salsa Club returns to Cornerstone Baptist Church Hall! \nLocated in Headingley and free street parking close by\, welcome back to the best salsa night in Leeds! \n8.00pm-9.00pm Intermediate/Advanced \n£7pp \nYou can book online or by card/cash at the venue.
URL:https://www.leedssalsaclub.com/event/salsa-intermediate-advanced-class-17/
LOCATION:Cornerstone Baptist Church Hall\, Kirkstall Ln\, Headingley\, Leeds\, LS6 3LF
CATEGORIES:Salsa Events
ATTACH;FMTTYPE=image/png:https://www.leedssalsaclub.com/wp-content/uploads/2025/04/png_20230421_081430_0000.png
END:VEVENT
BEGIN:VEVENT
DTSTART;TZID=UTC:20250828T190000
DTEND;TZID=UTC:20250828T210000
DTSTAMP:20260421T230906
CREATED:20250721T093211Z
LAST-MODIFIED:20250721T094906Z
UID:680-1756407600-1756414800@www.leedssalsaclub.com
SUMMARY:Salsa Both Level Classes
DESCRIPTION:Salsa with Leeds Salsa Club returns to Cornerstone Baptist Church Hall! \nLocated in the Headingley and free street parking close by\, welcome back to the best salsa night in Leeds! \n7.00pm-8.00pm Beginners/Improvers \n8.00pm-9.00pm Intermediate/Advanced \n£10pp for both classes (only valid on same night) \nYou can book online or by card/cash at the venue.
URL:https://www.leedssalsaclub.com/event/salsa-both-level-classes-17/
LOCATION:Cornerstone Baptist Church Hall\, Kirkstall Ln\, Headingley\, Leeds\, LS6 3LF
CATEGORIES:Salsa Events
ATTACH;FMTTYPE=image/png:https://www.leedssalsaclub.com/wp-content/uploads/2025/04/png_20230421_081430_0000.png
END:VEVENT
BEGIN:VEVENT
DTSTART;TZID=UTC:20250828T190000
DTEND;TZID=UTC:20250828T200000
DTSTAMP:20260421T230906
CREATED:20250721T092421Z
LAST-MODIFIED:20250721T094947Z
UID:662-1756407600-1756411200@www.leedssalsaclub.com
SUMMARY:Salsa Beginners/Improvers Class
DESCRIPTION:Salsa with Leeds Salsa Club returns to Cornerstone Baptist Church Hall! \nLocated in the Headingley and free street parking close by\, welcome back to the best salsa night in Leeds! \n7.00pm-8.00pm Beginners/Improvers \n£7pp \nYou can book online or by card/cash at the venue.
URL:https://www.leedssalsaclub.com/event/salsa-beginners-improvers-class-17/
LOCATION:Cornerstone Baptist Church Hall\, Kirkstall Ln\, Headingley\, Leeds\, LS6 3LF
CATEGORIES:Salsa Events
ATTACH;FMTTYPE=image/png:https://www.leedssalsaclub.com/wp-content/uploads/2025/04/png_20230421_081430_0000.png
END:VEVENT
BEGIN:VEVENT
DTSTART;TZID=UTC:20250825T190000
DTEND;TZID=UTC:20250825T200000
DTSTAMP:20260421T230906
CREATED:20250821T143303Z
LAST-MODIFIED:20250821T143303Z
UID:791-1756148400-1756152000@www.leedssalsaclub.com
SUMMARY:1:1 Class
DESCRIPTION:1:1 Classes with Leeds Salsa Club \nWanting to take your dancing to the next level? \nJust starting out and need some confidence before joining group classes? \nPrivate classes are the way to get you where you need to be in your dancing. \nLet us know what you are wanting and we will help you achieve this. \nYou can book as an individual or as a couple. \nAny questions just email us at salsatwinsuk@gmail.com \n 
URL:https://www.leedssalsaclub.com/event/11-class-14/
LOCATION:Leeds Salsa Club\, 16 St James Quay\, 4 Bowman Lane\, Leeds\, LS10 1HG
CATEGORIES:Salsa Events
ATTACH;FMTTYPE=image/jpeg:https://www.leedssalsaclub.com/wp-content/uploads/2025/04/page1_img4.jpg
END:VEVENT
BEGIN:VEVENT
DTSTART;TZID=UTC:20250825T180000
DTEND;TZID=UTC:20250825T190000
DTSTAMP:20260421T230906
CREATED:20250821T143207Z
LAST-MODIFIED:20250821T143207Z
UID:788-1756144800-1756148400@www.leedssalsaclub.com
SUMMARY:1:1 Class
DESCRIPTION:1:1 Classes with Leeds Salsa Club \nWanting to take your dancing to the next level? \nJust starting out and need some confidence before joining group classes? \nPrivate classes are the way to get you where you need to be in your dancing. \nLet us know what you are wanting and we will help you achieve this. \nYou can book as an individual or as a couple. \nAny questions just email us at salsatwinsuk@gmail.com \n 
URL:https://www.leedssalsaclub.com/event/11-class-13/
LOCATION:Leeds Salsa Club\, 16 St James Quay\, 4 Bowman Lane\, Leeds\, LS10 1HG
CATEGORIES:Salsa Events
ATTACH;FMTTYPE=image/jpeg:https://www.leedssalsaclub.com/wp-content/uploads/2025/04/page1_img4.jpg
END:VEVENT
BEGIN:VEVENT
DTSTART;TZID=UTC:20250822T190000
DTEND;TZID=UTC:20250822T200000
DTSTAMP:20260421T230906
CREATED:20250728T171627Z
LAST-MODIFIED:20250728T174605Z
UID:747-1755889200-1755892800@www.leedssalsaclub.com
SUMMARY:1:1 Class
DESCRIPTION:1:1 Classes with Leeds Salsa Club \nWanting to take your dancing to the next level? \nJust starting out and need some confidence before joining group classes? \nPrivate classes are the way to get you where you need to be in your dancing. \nLet us know what you are wanting and we will help you achieve this. \nYou can book as an individual or as a couple. \nAny questions just email us at salsatwinsuk@gmail.com \n 
URL:https://www.leedssalsaclub.com/event/11-class-12/
LOCATION:Leeds Salsa Club\, 16 St James Quay\, 4 Bowman Lane\, Leeds\, LS10 1HG
CATEGORIES:Salsa Events
ATTACH;FMTTYPE=image/jpeg:https://www.leedssalsaclub.com/wp-content/uploads/2025/04/page1_img4.jpg
END:VEVENT
BEGIN:VEVENT
DTSTART;TZID=UTC:20250822T180000
DTEND;TZID=UTC:20250822T190000
DTSTAMP:20260421T230906
CREATED:20250728T171526Z
LAST-MODIFIED:20250728T174630Z
UID:744-1755885600-1755889200@www.leedssalsaclub.com
SUMMARY:1:1 Class
DESCRIPTION:1:1 Classes with Leeds Salsa Club \nWanting to take your dancing to the next level? \nJust starting out and need some confidence before joining group classes? \nPrivate classes are the way to get you where you need to be in your dancing. \nLet us know what you are wanting and we will help you achieve this. \nYou can book as an individual or as a couple. \nAny questions just email us at salsatwinsuk@gmail.com \n 
URL:https://www.leedssalsaclub.com/event/11-class-11/
LOCATION:Leeds Salsa Club\, 16 St James Quay\, 4 Bowman Lane\, Leeds\, LS10 1HG
CATEGORIES:Salsa Events
ATTACH;FMTTYPE=image/jpeg:https://www.leedssalsaclub.com/wp-content/uploads/2025/04/page1_img4.jpg
END:VEVENT
BEGIN:VEVENT
DTSTART;TZID=UTC:20250821T200000
DTEND;TZID=UTC:20250821T210000
DTSTAMP:20260421T230906
CREATED:20250721T093917Z
LAST-MODIFIED:20250721T093917Z
UID:695-1755806400-1755810000@www.leedssalsaclub.com
SUMMARY:Salsa Intermediate/Advanced Class
DESCRIPTION:Salsa with Leeds Salsa Club returns to Cornerstone Baptist Church Hall! \nLocated in Headingley and free street parking close by\, welcome back to the best salsa night in Leeds! \n8.00pm-9.00pm Intermediate/Advanced \n£7pp \nYou can book online or by card/cash at the venue.
URL:https://www.leedssalsaclub.com/event/salsa-intermediate-advanced-class-16/
LOCATION:Cornerstone Baptist Church Hall\, Kirkstall Ln\, Headingley\, Leeds\, LS6 3LF
CATEGORIES:Salsa Events
ATTACH;FMTTYPE=image/png:https://www.leedssalsaclub.com/wp-content/uploads/2025/04/png_20230421_081430_0000.png
END:VEVENT
BEGIN:VEVENT
DTSTART;TZID=UTC:20250821T190000
DTEND;TZID=UTC:20250821T210000
DTSTAMP:20260421T230906
CREATED:20250721T093007Z
LAST-MODIFIED:20250721T094815Z
UID:677-1755802800-1755810000@www.leedssalsaclub.com
SUMMARY:Salsa Both Level Classes
DESCRIPTION:Salsa with Leeds Salsa Club returns to Cornerstone Baptist Church Hall! \nLocated in the Headingley and free street parking close by\, welcome back to the best salsa night in Leeds! \n7.00pm-8.00pm Beginners/Improvers \n8.00pm-9.00pm Intermediate/Advanced \n£10pp for both classes (only valid on same night) \nYou can book online or by card/cash at the venue.
URL:https://www.leedssalsaclub.com/event/salsa-both-level-classes-16/
LOCATION:Cornerstone Baptist Church Hall\, Kirkstall Ln\, Headingley\, Leeds\, LS6 3LF
CATEGORIES:Salsa Events
ATTACH;FMTTYPE=image/png:https://www.leedssalsaclub.com/wp-content/uploads/2025/04/png_20230421_081430_0000.png
END:VEVENT
BEGIN:VEVENT
DTSTART;TZID=UTC:20250821T190000
DTEND;TZID=UTC:20250821T200000
DTSTAMP:20260421T230906
CREATED:20250721T080916Z
LAST-MODIFIED:20250721T080916Z
UID:659-1755802800-1755806400@www.leedssalsaclub.com
SUMMARY:Salsa Beginners/Improvers Class
DESCRIPTION:Salsa with Leeds Salsa Club returns to Cornerstone Baptist Church Hall! \nLocated in the Headingley and free street parking close by\, welcome back to the best salsa night in Leeds! \n7.00pm-8.00pm Beginners/Improvers \n£7pp \nYou can book online or by card/cash at the venue.
URL:https://www.leedssalsaclub.com/event/salsa-beginners-improvers-class-16/
LOCATION:Cornerstone Baptist Church Hall\, Kirkstall Ln\, Headingley\, Leeds\, LS6 3LF
CATEGORIES:Salsa Events
ATTACH;FMTTYPE=image/png:https://www.leedssalsaclub.com/wp-content/uploads/2025/04/png_20230421_081430_0000.png
END:VEVENT
BEGIN:VEVENT
DTSTART;TZID=UTC:20250818T190000
DTEND;TZID=UTC:20250818T200000
DTSTAMP:20260421T230906
CREATED:20250728T171409Z
LAST-MODIFIED:20250728T174713Z
UID:741-1755543600-1755547200@www.leedssalsaclub.com
SUMMARY:1:1 Class
DESCRIPTION:1:1 Classes with Leeds Salsa Club \nWanting to take your dancing to the next level? \nJust starting out and need some confidence before joining group classes? \nPrivate classes are the way to get you where you need to be in your dancing. \nLet us know what you are wanting and we will help you achieve this. \nYou can book as an individual or as a couple. \nAny questions just email us at salsatwinsuk@gmail.com \n 
URL:https://www.leedssalsaclub.com/event/11-class-10/
LOCATION:Leeds Salsa Club\, 16 St James Quay\, 4 Bowman Lane\, Leeds\, LS10 1HG
CATEGORIES:Salsa Events
ATTACH;FMTTYPE=image/jpeg:https://www.leedssalsaclub.com/wp-content/uploads/2025/04/page1_img4.jpg
END:VEVENT
BEGIN:VEVENT
DTSTART;TZID=UTC:20250818T180000
DTEND;TZID=UTC:20250818T190000
DTSTAMP:20260421T230906
CREATED:20250728T171300Z
LAST-MODIFIED:20250728T172109Z
UID:738-1755540000-1755543600@www.leedssalsaclub.com
SUMMARY:1:1 Class
DESCRIPTION:1:1 Classes with Leeds Salsa Club \nWanting to take your dancing to the next level? \nJust starting out and need some confidence before joining group classes? \nPrivate classes are the way to get you where you need to be in your dancing. \nLet us know what you are wanting and we will help you achieve this. \nYou can book as an individual or as a couple. \nAny questions just email us at salsatwinsuk@gmail.com \n 
URL:https://www.leedssalsaclub.com/event/11-class-9/
LOCATION:Leeds Salsa Club\, 16 St James Quay\, 4 Bowman Lane\, Leeds\, LS10 1HG
CATEGORIES:Salsa Events
ATTACH;FMTTYPE=image/jpeg:https://www.leedssalsaclub.com/wp-content/uploads/2025/04/page1_img4.jpg
END:VEVENT
BEGIN:VEVENT
DTSTART;TZID=UTC:20250815T190000
DTEND;TZID=UTC:20250815T200000
DTSTAMP:20260421T230906
CREATED:20250728T171120Z
LAST-MODIFIED:20250728T174832Z
UID:735-1755284400-1755288000@www.leedssalsaclub.com
SUMMARY:1:1 Class
DESCRIPTION:1:1 Classes with Leeds Salsa Club \nWanting to take your dancing to the next level? \nJust starting out and need some confidence before joining group classes? \nPrivate classes are the way to get you where you need to be in your dancing. \nLet us know what you are wanting and we will help you achieve this. \nYou can book as an individual or as a couple. \nAny questions just email us at salsatwinsuk@gmail.com \n 
URL:https://www.leedssalsaclub.com/event/11-class-8/
LOCATION:Leeds Salsa Club\, 16 St James Quay\, 4 Bowman Lane\, Leeds\, LS10 1HG
CATEGORIES:Salsa Events
ATTACH;FMTTYPE=image/jpeg:https://www.leedssalsaclub.com/wp-content/uploads/2025/04/page1_img4.jpg
END:VEVENT
BEGIN:VEVENT
DTSTART;TZID=UTC:20250815T180000
DTEND;TZID=UTC:20250815T190000
DTSTAMP:20260421T230906
CREATED:20250728T171010Z
LAST-MODIFIED:20250728T172015Z
UID:732-1755280800-1755284400@www.leedssalsaclub.com
SUMMARY:1:1 Class
DESCRIPTION:1:1 Classes with Leeds Salsa Club \nWanting to take your dancing to the next level? \nJust starting out and need some confidence before joining group classes? \nPrivate classes are the way to get you where you need to be in your dancing. \nLet us know what you are wanting and we will help you achieve this. \nYou can book as an individual or as a couple. \nAny questions just email us at salsatwinsuk@gmail.com \n 
URL:https://www.leedssalsaclub.com/event/11-class-7/
LOCATION:Leeds Salsa Club\, 16 St James Quay\, 4 Bowman Lane\, Leeds\, LS10 1HG
CATEGORIES:Salsa Events
ATTACH;FMTTYPE=image/jpeg:https://www.leedssalsaclub.com/wp-content/uploads/2025/04/page1_img4.jpg
END:VEVENT
BEGIN:VEVENT
DTSTART;TZID=UTC:20250814T200000
DTEND;TZID=UTC:20250814T210000
DTSTAMP:20260421T230906
CREATED:20250721T093828Z
LAST-MODIFIED:20250721T093828Z
UID:692-1755201600-1755205200@www.leedssalsaclub.com
SUMMARY:Salsa Intermediate/Advanced Class
DESCRIPTION:Salsa with Leeds Salsa Club returns to Cornerstone Baptist Church Hall! \nLocated in Headingley and free street parking close by\, welcome back to the best salsa night in Leeds! \n8.00pm-9.00pm Intermediate/Advanced \n£7pp \nYou can book online or by card/cash at the venue.
URL:https://www.leedssalsaclub.com/event/salsa-intermediate-advanced-class-15/
LOCATION:Cornerstone Baptist Church Hall\, Kirkstall Ln\, Headingley\, Leeds\, LS6 3LF
CATEGORIES:Salsa Events
ATTACH;FMTTYPE=image/png:https://www.leedssalsaclub.com/wp-content/uploads/2025/04/png_20230421_081430_0000.png
END:VEVENT
BEGIN:VEVENT
DTSTART;TZID=UTC:20250814T190000
DTEND;TZID=UTC:20250814T210000
DTSTAMP:20260421T230906
CREATED:20250721T092917Z
LAST-MODIFIED:20250721T094736Z
UID:674-1755198000-1755205200@www.leedssalsaclub.com
SUMMARY:Salsa Both Level Classes
DESCRIPTION:Salsa with Leeds Salsa Club returns to Cornerstone Baptist Church Hall! \nLocated in the Headingley and free street parking close by\, welcome back to the best salsa night in Leeds! \n7.00pm-8.00pm Beginners/Improvers \n8.00pm-9.00pm Intermediate/Advanced \n£10pp for both classes (only valid on same night) \nYou can book online or by card/cash at the venue.
URL:https://www.leedssalsaclub.com/event/salsa-both-level-classes-15/
LOCATION:Cornerstone Baptist Church Hall\, Kirkstall Ln\, Headingley\, Leeds\, LS6 3LF
CATEGORIES:Salsa Events
ATTACH;FMTTYPE=image/png:https://www.leedssalsaclub.com/wp-content/uploads/2025/04/png_20230421_081430_0000.png
END:VEVENT
BEGIN:VEVENT
DTSTART;TZID=UTC:20250814T190000
DTEND;TZID=UTC:20250814T200000
DTSTAMP:20260421T230906
CREATED:20250721T080756Z
LAST-MODIFIED:20250721T080756Z
UID:656-1755198000-1755201600@www.leedssalsaclub.com
SUMMARY:Salsa Beginners/Improvers Class
DESCRIPTION:Salsa with Leeds Salsa Club returns to Cornerstone Baptist Church Hall! \nLocated in the Headingley and free street parking close by\, welcome back to the best salsa night in Leeds! \n7.00pm-8.00pm Beginners/Improvers \n£7pp \nYou can book online or by card/cash at the venue.
URL:https://www.leedssalsaclub.com/event/salsa-beginners-improvers-class-15/
LOCATION:Cornerstone Baptist Church Hall\, Kirkstall Ln\, Headingley\, Leeds\, LS6 3LF
CATEGORIES:Salsa Events
ATTACH;FMTTYPE=image/png:https://www.leedssalsaclub.com/wp-content/uploads/2025/04/png_20230421_081430_0000.png
END:VEVENT
BEGIN:VEVENT
DTSTART;TZID=UTC:20250813T192500
DTEND;TZID=UTC:20250813T202500
DTSTAMP:20260421T230906
CREATED:20250609T092408Z
LAST-MODIFIED:20250810T184936Z
UID:588-1755113100-1755116700@www.leedssalsaclub.com
SUMMARY:Bachata All Level 6 Week Course
DESCRIPTION:Bachata All Level 6 Week Course \nBeginners Welcome! \nStarting 13 August – 17 September \nHeld at the Dance Studio Leeds\, Mabgate Mills. \nClasses will run every Wednesday at 7.25pm. \nNo partner required. \nThere are limited spaces\, please book early to avoid disappointment. \n**Refunds are not available on courses\, where possible we may be able to move you onto another course depending on the situation and availability**
URL:https://www.leedssalsaclub.com/event/bachata-all-level-6-week-course-2/
LOCATION:Dance Studio\, Mill 6\, Mabgate mills\, Macaulay St\, Leeds\, LS9 7SW
CATEGORIES:Salsa Events
ATTACH;FMTTYPE=image/jpeg:https://www.leedssalsaclub.com/wp-content/uploads/2025/04/FB_IMG_1643798699892.jpg
ORGANIZER;CN="Leeds Salsa Club":MAILTO:salsatwinsuk@gmail.co.uk
END:VEVENT
BEGIN:VEVENT
DTSTART;TZID=UTC:20250811T190000
DTEND;TZID=UTC:20250811T200000
DTSTAMP:20260421T230906
CREATED:20250728T170847Z
LAST-MODIFIED:20250728T171923Z
UID:729-1754938800-1754942400@www.leedssalsaclub.com
SUMMARY:1:1 Class
DESCRIPTION:1:1 Classes with Leeds Salsa Club \nWanting to take your dancing to the next level? \nJust starting out and need some confidence before joining group classes? \nPrivate classes are the way to get you where you need to be in your dancing. \nLet us know what you are wanting and we will help you achieve this. \nYou can book as an individual or as a couple. \nAny questions just email us at salsatwinsuk@gmail.com \n 
URL:https://www.leedssalsaclub.com/event/11-class-6/
LOCATION:Leeds Salsa Club\, 16 St James Quay\, 4 Bowman Lane\, Leeds\, LS10 1HG
CATEGORIES:Salsa Events
ATTACH;FMTTYPE=image/jpeg:https://www.leedssalsaclub.com/wp-content/uploads/2025/04/page1_img4.jpg
END:VEVENT
BEGIN:VEVENT
DTSTART;TZID=UTC:20250811T180000
DTEND;TZID=UTC:20250811T190000
DTSTAMP:20260421T230906
CREATED:20250728T170726Z
LAST-MODIFIED:20250728T171857Z
UID:724-1754935200-1754938800@www.leedssalsaclub.com
SUMMARY:1:1 Class
DESCRIPTION:1:1 Classes with Leeds Salsa Club \nWanting to take your dancing to the next level? \nJust starting out and need some confidence before joining group classes? \nPrivate classes are the way to get you where you need to be in your dancing. \nLet us know what you are wanting and we will help you achieve this. \nYou can book as an individual or as a couple. \nAny questions just email us at salsatwinsuk@gmail.com \n 
URL:https://www.leedssalsaclub.com/event/11-class-5/
LOCATION:Leeds Salsa Club\, 16 St James Quay\, 4 Bowman Lane\, Leeds\, LS10 1HG
CATEGORIES:Salsa Events
ATTACH;FMTTYPE=image/jpeg:https://www.leedssalsaclub.com/wp-content/uploads/2025/04/page1_img4.jpg
END:VEVENT
BEGIN:VEVENT
DTSTART;TZID=UTC:20250808T190000
DTEND;TZID=UTC:20250808T200000
DTSTAMP:20260421T230906
CREATED:20250728T170237Z
LAST-MODIFIED:20250728T171803Z
UID:720-1754679600-1754683200@www.leedssalsaclub.com
SUMMARY:1:1 Class
DESCRIPTION:1:1 Classes with Leeds Salsa Club \nWanting to take your dancing to the next level? \nJust starting out and need some confidence before joining group classes? \nPrivate classes are the way to get you where you need to be in your dancing. \nLet us know what you are wanting and we will help you achieve this. \nYou can book as an individual or as a couple. \nAny questions just email us at salsatwinsuk@gmail.com \n 
URL:https://www.leedssalsaclub.com/event/11-class-4/
LOCATION:Leeds Salsa Club\, 16 St James Quay\, 4 Bowman Lane\, Leeds\, LS10 1HG
CATEGORIES:Salsa Events
ATTACH;FMTTYPE=image/jpeg:https://www.leedssalsaclub.com/wp-content/uploads/2025/04/page1_img4.jpg
END:VEVENT
END:VCALENDAR