BEGIN:VCALENDAR
VERSION:2.0
PRODID:-//Leeds Salsa Club - ECPv6.15.20//NONSGML v1.0//EN
CALSCALE:GREGORIAN
METHOD:PUBLISH
X-WR-CALNAME:Leeds Salsa Club
X-ORIGINAL-URL:https://www.leedssalsaclub.com
X-WR-CALDESC:Events for Leeds Salsa Club
REFRESH-INTERVAL;VALUE=DURATION:PT1H
X-Robots-Tag:noindex
X-PUBLISHED-TTL:PT1H
BEGIN:VTIMEZONE
TZID:UTC
BEGIN:STANDARD
TZOFFSETFROM:+0000
TZOFFSETTO:+0000
TZNAME:UTC
DTSTART:20240101T000000
END:STANDARD
END:VTIMEZONE
BEGIN:VEVENT
DTSTART;TZID=UTC:20250724T190000
DTEND;TZID=UTC:20250724T200000
DTSTAMP:20260421T194432
CREATED:20250721T080051Z
LAST-MODIFIED:20250721T080051Z
UID:641-1753383600-1753387200@www.leedssalsaclub.com
SUMMARY:Salsa Beginners/Improvers Class
DESCRIPTION:Salsa with Leeds Salsa Club returns to Cornerstone Baptist Church Hall! \nLocated in the Headingley and free street parking close by\, welcome back to the best salsa night in Leeds! \n7.00pm-8.00pm Beginners/Improvers \n£7pp \nYou can book online or by card/cash at the venue.
URL:https://www.leedssalsaclub.com/event/salsa-beginners-improvers-class-12/
CATEGORIES:Salsa Events
ATTACH;FMTTYPE=image/png:https://www.leedssalsaclub.com/wp-content/uploads/2025/04/png_20230421_081430_0000.png
END:VEVENT
BEGIN:VEVENT
DTSTART;TZID=UTC:20250710T200000
DTEND;TZID=UTC:20250710T210000
DTSTAMP:20260421T194432
CREATED:20250609T093036Z
LAST-MODIFIED:20250609T093036Z
UID:597-1752177600-1752181200@www.leedssalsaclub.com
SUMMARY:Salsa Intermediate/Advanced Class
DESCRIPTION:Salsa with Leeds Salsa Club returns to Cornerstone Baptist Church Hall! \nLocated in Headingley and free street parking close by\, welcome back to the best salsa night in Leeds! \n8.00pm-9.00pm Intermediate/Advanced \n£7pp \nYou can book online or by card/cash at the venue.
URL:https://www.leedssalsaclub.com/event/salsa-intermediate-advanced-class-11/
CATEGORIES:Salsa Events
ATTACH;FMTTYPE=image/png:https://www.leedssalsaclub.com/wp-content/uploads/2025/04/png_20230421_081430_0000.png
END:VEVENT
BEGIN:VEVENT
DTSTART;TZID=UTC:20250710T190000
DTEND;TZID=UTC:20250710T210000
DTSTAMP:20260421T194432
CREATED:20250609T092927Z
LAST-MODIFIED:20250609T092927Z
UID:594-1752174000-1752181200@www.leedssalsaclub.com
SUMMARY:Salsa Both Level Classes
DESCRIPTION:Salsa with Leeds Salsa Club returns to Cornerstone Baptist Church Hall! \nLocated in the Headingley and free street parking close by\, welcome back to the best salsa night in Leeds! \n7.00pm-8.00pm Beginners/Improvers \n8.00pm-9.00pm Intermediate/Advanced \n£10pp for both classes (only valid on same night) \nYou can book online or by card/cash at the venue.
URL:https://www.leedssalsaclub.com/event/salsa-both-level-classes-11/
LOCATION:Cornerstone Baptist Church Hall\, Kirkstall Ln\, Headingley\, Leeds\, LS6 3LF
CATEGORIES:Salsa Events
ATTACH;FMTTYPE=image/png:https://www.leedssalsaclub.com/wp-content/uploads/2025/04/png_20230421_081430_0000.png
END:VEVENT
BEGIN:VEVENT
DTSTART;TZID=UTC:20250710T190000
DTEND;TZID=UTC:20250710T200000
DTSTAMP:20260421T194432
CREATED:20250609T092818Z
LAST-MODIFIED:20250609T092818Z
UID:591-1752174000-1752177600@www.leedssalsaclub.com
SUMMARY:Salsa Beginners/Improvers Class
DESCRIPTION:Salsa with Leeds Salsa Club returns to Cornerstone Baptist Church Hall! \nLocated in the Headingley and free street parking close by\, welcome back to the best salsa night in Leeds! \n7.00pm-8.00pm Beginners/Improvers \n£7pp \nYou can book online or by card/cash at the venue.
URL:https://www.leedssalsaclub.com/event/salsa-beginners-improvers-class-11/
CATEGORIES:Salsa Events
ATTACH;FMTTYPE=image/png:https://www.leedssalsaclub.com/wp-content/uploads/2025/04/png_20230421_081430_0000.png
END:VEVENT
BEGIN:VEVENT
DTSTART;TZID=UTC:20250703T200000
DTEND;TZID=UTC:20250703T210000
DTSTAMP:20260421T194432
CREATED:20250609T092139Z
LAST-MODIFIED:20250609T092139Z
UID:585-1751572800-1751576400@www.leedssalsaclub.com
SUMMARY:Salsa Intermediate/Advanced Class
DESCRIPTION:Salsa with Leeds Salsa Club returns to Cornerstone Baptist Church Hall! \nLocated in Headingley and free street parking close by\, welcome back to the best salsa night in Leeds! \n8.00pm-9.00pm Intermediate/Advanced \n£7pp \nYou can book online or by card/cash at the venue.
URL:https://www.leedssalsaclub.com/event/salsa-intermediate-advanced-class-10/
CATEGORIES:Salsa Events
ATTACH;FMTTYPE=image/png:https://www.leedssalsaclub.com/wp-content/uploads/2025/04/png_20230421_081430_0000.png
END:VEVENT
BEGIN:VEVENT
DTSTART;TZID=UTC:20250703T190000
DTEND;TZID=UTC:20250703T210000
DTSTAMP:20260421T194432
CREATED:20250609T092017Z
LAST-MODIFIED:20250609T092017Z
UID:582-1751569200-1751576400@www.leedssalsaclub.com
SUMMARY:Salsa Both Level Classes
DESCRIPTION:Salsa with Leeds Salsa Club returns to Cornerstone Baptist Church Hall! \nLocated in the Headingley and free street parking close by\, welcome back to the best salsa night in Leeds! \n7.00pm-8.00pm Beginners/Improvers \n8.00pm-9.00pm Intermediate/Advanced \n£10pp for both classes (only valid on same night) \nYou can book online or by card/cash at the venue.
URL:https://www.leedssalsaclub.com/event/salsa-both-level-classes-10/
LOCATION:Cornerstone Baptist Church Hall\, Kirkstall Ln\, Headingley\, Leeds\, LS6 3LF
CATEGORIES:Salsa Events
ATTACH;FMTTYPE=image/png:https://www.leedssalsaclub.com/wp-content/uploads/2025/04/png_20230421_081430_0000.png
END:VEVENT
BEGIN:VEVENT
DTSTART;TZID=UTC:20250703T190000
DTEND;TZID=UTC:20250703T200000
DTSTAMP:20260421T194432
CREATED:20250609T091917Z
LAST-MODIFIED:20250609T091917Z
UID:579-1751569200-1751572800@www.leedssalsaclub.com
SUMMARY:Salsa Beginners/Improvers Class
DESCRIPTION:Salsa with Leeds Salsa Club returns to Cornerstone Baptist Church Hall! \nLocated in the Headingley and free street parking close by\, welcome back to the best salsa night in Leeds! \n7.00pm-8.00pm Beginners/Improvers \n£7pp \nYou can book online or by card/cash at the venue.
URL:https://www.leedssalsaclub.com/event/salsa-beginners-improvers-class-10/
CATEGORIES:Salsa Events
ATTACH;FMTTYPE=image/png:https://www.leedssalsaclub.com/wp-content/uploads/2025/04/png_20230421_081430_0000.png
END:VEVENT
BEGIN:VEVENT
DTSTART;TZID=UTC:20250702T192500
DTEND;TZID=UTC:20250702T202500
DTSTAMP:20260421T194432
CREATED:20250609T085519Z
LAST-MODIFIED:20250609T085519Z
UID:548-1751484300-1751487900@www.leedssalsaclub.com
SUMMARY:Bachata All Level 6 Week Course
DESCRIPTION:Bachata All Level 6 Week Course \nBeginners Welcome! \nStarting 2 July – 6 August \nHeld at the Dance Studio Leeds\, Mabgate Mills. \nClasses will run every Wednesday at 7.25pm. \nNo partner required. \nThere are limited spaces\, please book early to avoid disappointment. \n**Refunds are not available on courses\, where possible we may be able to move you onto another course depending on the situation and availability**
URL:https://www.leedssalsaclub.com/event/bachata-all-level-6-week-course/
LOCATION:Dance Studio\, Mill 6\, Mabgate mills\, Macaulay St\, Leeds\, LS9 7SW
CATEGORIES:Salsa Events
ATTACH;FMTTYPE=image/jpeg:https://www.leedssalsaclub.com/wp-content/uploads/2025/04/FB_IMG_1643798699892.jpg
ORGANIZER;CN="Leeds Salsa Club":MAILTO:salsatwinsuk@gmail.co.uk
END:VEVENT
BEGIN:VEVENT
DTSTART;TZID=UTC:20250626T200000
DTEND;TZID=UTC:20250626T210000
DTSTAMP:20260421T194432
CREATED:20250609T091757Z
LAST-MODIFIED:20250609T091757Z
UID:576-1750968000-1750971600@www.leedssalsaclub.com
SUMMARY:Salsa Intermediate/Advanced Class
DESCRIPTION:Salsa with Leeds Salsa Club returns to Cornerstone Baptist Church Hall! \nLocated in Headingley and free street parking close by\, welcome back to the best salsa night in Leeds! \n8.00pm-9.00pm Intermediate/Advanced \n£7pp \nYou can book online or by card/cash at the venue.
URL:https://www.leedssalsaclub.com/event/salsa-intermediate-advanced-class-9/
CATEGORIES:Salsa Events
ATTACH;FMTTYPE=image/png:https://www.leedssalsaclub.com/wp-content/uploads/2025/04/png_20230421_081430_0000.png
END:VEVENT
BEGIN:VEVENT
DTSTART;TZID=UTC:20250626T190000
DTEND;TZID=UTC:20250626T210000
DTSTAMP:20260421T194432
CREATED:20250609T091655Z
LAST-MODIFIED:20250609T091655Z
UID:573-1750964400-1750971600@www.leedssalsaclub.com
SUMMARY:Salsa Both Level Classes
DESCRIPTION:Salsa with Leeds Salsa Club returns to Cornerstone Baptist Church Hall! \nLocated in the Headingley and free street parking close by\, welcome back to the best salsa night in Leeds! \n7.00pm-8.00pm Beginners/Improvers \n8.00pm-9.00pm Intermediate/Advanced \n£10pp for both classes (only valid on same night) \nYou can book online or by card/cash at the venue.
URL:https://www.leedssalsaclub.com/event/salsa-both-level-classes-9/
LOCATION:Cornerstone Baptist Church Hall\, Kirkstall Ln\, Headingley\, Leeds\, LS6 3LF
CATEGORIES:Salsa Events
ATTACH;FMTTYPE=image/png:https://www.leedssalsaclub.com/wp-content/uploads/2025/04/png_20230421_081430_0000.png
END:VEVENT
BEGIN:VEVENT
DTSTART;TZID=UTC:20250626T190000
DTEND;TZID=UTC:20250626T200000
DTSTAMP:20260421T194432
CREATED:20250609T091546Z
LAST-MODIFIED:20250609T093316Z
UID:571-1750964400-1750968000@www.leedssalsaclub.com
SUMMARY:Salsa Beginners/Improvers Class
DESCRIPTION:Salsa with Leeds Salsa Club returns to Cornerstone Baptist Church Hall! \nLocated in the Headingley and free street parking close by\, welcome back to the best salsa night in Leeds! \n7.00pm-8.00pm Beginners/Improvers \n£7pp \nYou can book online or by card/cash at the venue.
URL:https://www.leedssalsaclub.com/event/salsa-beginners-improvers-class-9/
CATEGORIES:Salsa Events
ATTACH;FMTTYPE=image/png:https://www.leedssalsaclub.com/wp-content/uploads/2025/04/png_20230421_081430_0000.png
END:VEVENT
BEGIN:VEVENT
DTSTART;TZID=UTC:20250619T200000
DTEND;TZID=UTC:20250619T210000
DTSTAMP:20260421T194432
CREATED:20250609T091429Z
LAST-MODIFIED:20250609T091429Z
UID:568-1750363200-1750366800@www.leedssalsaclub.com
SUMMARY:Salsa Intermediate/Advanced Class
DESCRIPTION:Salsa with Leeds Salsa Club returns to Cornerstone Baptist Church Hall! \nLocated in Headingley and free street parking close by\, welcome back to the best salsa night in Leeds! \n8.00pm-9.00pm Intermediate/Advanced \n£7pp \nYou can book online or by card/cash at the venue.
URL:https://www.leedssalsaclub.com/event/salsa-intermediate-advanced-class-8/
CATEGORIES:Salsa Events
ATTACH;FMTTYPE=image/png:https://www.leedssalsaclub.com/wp-content/uploads/2025/04/png_20230421_081430_0000.png
END:VEVENT
BEGIN:VEVENT
DTSTART;TZID=UTC:20250619T190000
DTEND;TZID=UTC:20250619T210000
DTSTAMP:20260421T194432
CREATED:20250609T091318Z
LAST-MODIFIED:20250609T091318Z
UID:565-1750359600-1750366800@www.leedssalsaclub.com
SUMMARY:Salsa Both Level Classes
DESCRIPTION:Salsa with Leeds Salsa Club returns to Cornerstone Baptist Church Hall! \nLocated in the Headingley and free street parking close by\, welcome back to the best salsa night in Leeds! \n7.00pm-8.00pm Beginners/Improvers \n8.00pm-9.00pm Intermediate/Advanced \n£10pp for both classes (only valid on same night) \nYou can book online or by card/cash at the venue.
URL:https://www.leedssalsaclub.com/event/salsa-both-level-classes-8/
LOCATION:Cornerstone Baptist Church Hall\, Kirkstall Ln\, Headingley\, Leeds\, LS6 3LF
CATEGORIES:Salsa Events
ATTACH;FMTTYPE=image/png:https://www.leedssalsaclub.com/wp-content/uploads/2025/04/png_20230421_081430_0000.png
END:VEVENT
BEGIN:VEVENT
DTSTART;TZID=UTC:20250619T190000
DTEND;TZID=UTC:20250619T200000
DTSTAMP:20260421T194432
CREATED:20250609T091208Z
LAST-MODIFIED:20250609T091208Z
UID:562-1750359600-1750363200@www.leedssalsaclub.com
SUMMARY:Salsa Beginners/Improvers Class
DESCRIPTION:Salsa with Leeds Salsa Club returns to Cornerstone Baptist Church Hall! \nLocated in the Headingley and free street parking close by\, welcome back to the best salsa night in Leeds! \n7.00pm-8.00pm Beginners/Improvers \n£7pp \nYou can book online or by card/cash at the venue.
URL:https://www.leedssalsaclub.com/event/salsa-beginners-improvers-class-8/
CATEGORIES:Salsa Events
ATTACH;FMTTYPE=image/png:https://www.leedssalsaclub.com/wp-content/uploads/2025/04/png_20230421_081430_0000.png
END:VEVENT
BEGIN:VEVENT
DTSTART;TZID=UTC:20250612T200000
DTEND;TZID=UTC:20250612T210000
DTSTAMP:20260421T194432
CREATED:20250609T090325Z
LAST-MODIFIED:20250609T090325Z
UID:559-1749758400-1749762000@www.leedssalsaclub.com
SUMMARY:Salsa Intermediate/Advanced Class
DESCRIPTION:Salsa with Leeds Salsa Club returns to Cornerstone Baptist Church Hall! \nLocated in Headingley and free street parking close by\, welcome back to the best salsa night in Leeds! \n8.00pm-9.00pm Intermediate/Advanced \n£7pp \nYou can book online or by card/cash at the venue.
URL:https://www.leedssalsaclub.com/event/salsa-intermediate-advanced-class-5/
CATEGORIES:Salsa Events
ATTACH;FMTTYPE=image/png:https://www.leedssalsaclub.com/wp-content/uploads/2025/04/png_20230421_081430_0000.png
END:VEVENT
BEGIN:VEVENT
DTSTART;TZID=UTC:20250612T190000
DTEND;TZID=UTC:20250612T210000
DTSTAMP:20260421T194432
CREATED:20250609T085920Z
LAST-MODIFIED:20250609T085920Z
UID:555-1749754800-1749762000@www.leedssalsaclub.com
SUMMARY:Salsa Both Level Classes
DESCRIPTION:Salsa with Leeds Salsa Club returns to Cornerstone Baptist Church Hall! \nLocated in the Headingley and free street parking close by\, welcome back to the best salsa night in Leeds! \n7.00pm-8.00pm Beginners/Improvers \n8.00pm-9.00pm Intermediate/Advanced \n£10pp for both classes (only valid on same night) \nYou can book online or by card/cash at the venue.
URL:https://www.leedssalsaclub.com/event/salsa-both-level-classes-7/
LOCATION:Cornerstone Baptist Church Hall\, Kirkstall Ln\, Headingley\, Leeds\, LS6 3LF
CATEGORIES:Salsa Events
ATTACH;FMTTYPE=image/png:https://www.leedssalsaclub.com/wp-content/uploads/2025/04/png_20230421_081430_0000.png
END:VEVENT
BEGIN:VEVENT
DTSTART;TZID=UTC:20250612T190000
DTEND;TZID=UTC:20250612T200000
DTSTAMP:20260421T194432
CREATED:20250609T085815Z
LAST-MODIFIED:20250609T085815Z
UID:552-1749754800-1749758400@www.leedssalsaclub.com
SUMMARY:Salsa Beginners/Improvers Class
DESCRIPTION:Salsa with Leeds Salsa Club returns to Cornerstone Baptist Church Hall! \nLocated in the Headingley and free street parking close by\, welcome back to the best salsa night in Leeds! \n7.00pm-8.00pm Beginners/Improvers \n£7pp \nYou can book online or by card/cash at the venue.
URL:https://www.leedssalsaclub.com/event/salsa-beginners-improvers-class-5/
CATEGORIES:Salsa Events
ATTACH;FMTTYPE=image/png:https://www.leedssalsaclub.com/wp-content/uploads/2025/04/png_20230421_081430_0000.png
END:VEVENT
BEGIN:VEVENT
DTSTART;TZID=UTC:20250605T200000
DTEND;TZID=UTC:20250605T210000
DTSTAMP:20260421T194432
CREATED:20250423T165649Z
LAST-MODIFIED:20250423T175803Z
UID:439-1749153600-1749157200@www.leedssalsaclub.com
SUMMARY:Salsa Intermediate/Advanced Class
DESCRIPTION:Salsa with Leeds Salsa Club returns to Cornerstone Baptist Church Hall! \nLocated in Headingley and free street parking close by\, welcome back to the best salsa night in Leeds! \n8.00pm-9.00pm Intermediate/Advanced \n£7pp \nYou can book online or by card/cash at the venue.
URL:https://www.leedssalsaclub.com/event/salsa-intermediate-advanced-class-7/
CATEGORIES:Salsa Events
ATTACH;FMTTYPE=image/png:https://www.leedssalsaclub.com/wp-content/uploads/2025/04/png_20230421_081430_0000.png
END:VEVENT
BEGIN:VEVENT
DTSTART;TZID=UTC:20250605T190000
DTEND;TZID=UTC:20250605T210000
DTSTAMP:20260421T194432
CREATED:20250423T165541Z
LAST-MODIFIED:20250423T175839Z
UID:437-1749150000-1749157200@www.leedssalsaclub.com
SUMMARY:Salsa Both Level Classes
DESCRIPTION:Salsa with Leeds Salsa Club returns to Cornerstone Baptist Church Hall! \nLocated in the Headingley and free street parking close by\, welcome back to the best salsa night in Leeds! \n7.00pm-8.00pm Beginners/Improvers \n8.00pm-9.00pm Intermediate/Advanced \n£10pp for both classes (only valid on same night) \nYou can book online or by card/cash at the venue.
URL:https://www.leedssalsaclub.com/event/salsa-both-level-classes-6/
LOCATION:Cornerstone Baptist Church Hall\, Kirkstall Ln\, Headingley\, Leeds\, LS6 3LF
CATEGORIES:Salsa Events
ATTACH;FMTTYPE=image/png:https://www.leedssalsaclub.com/wp-content/uploads/2025/04/png_20230421_081430_0000.png
END:VEVENT
BEGIN:VEVENT
DTSTART;TZID=UTC:20250605T190000
DTEND;TZID=UTC:20250605T200000
DTSTAMP:20260421T194432
CREATED:20250423T165516Z
LAST-MODIFIED:20250423T165516Z
UID:435-1749150000-1749153600@www.leedssalsaclub.com
SUMMARY:Salsa Beginners/Improvers Class
DESCRIPTION:Salsa with Leeds Salsa Club returns to Cornerstone Baptist Church Hall! \nLocated in the Headingley and free street parking close by\, welcome back to the best salsa night in Leeds! \n7.00pm-8.00pm Beginners/Improvers \n£7pp \nYou can book online or by card/cash at the venue.
URL:https://www.leedssalsaclub.com/event/salsa-beginners-improvers-class-7/
CATEGORIES:Salsa Events
ATTACH;FMTTYPE=image/png:https://www.leedssalsaclub.com/wp-content/uploads/2025/04/png_20230421_081430_0000.png
END:VEVENT
BEGIN:VEVENT
DTSTART;TZID=UTC:20250529T200000
DTEND;TZID=UTC:20250529T210000
DTSTAMP:20260421T194432
CREATED:20250423T165449Z
LAST-MODIFIED:20250423T180011Z
UID:433-1748548800-1748552400@www.leedssalsaclub.com
SUMMARY:Salsa Intermediate/Advanced Class
DESCRIPTION:Salsa with Leeds Salsa Club returns to Cornerstone Baptist Church Hall! \nLocated in Headingley and free street parking close by\, welcome back to the best salsa night in Leeds! \n8.00pm-9.00pm Intermediate/Advanced \n£7pp \nYou can book online or by card/cash at the venue.
URL:https://www.leedssalsaclub.com/event/salsa-intermediate-advanced-class-6/
CATEGORIES:Salsa Events
ATTACH;FMTTYPE=image/png:https://www.leedssalsaclub.com/wp-content/uploads/2025/04/png_20230421_081430_0000.png
END:VEVENT
BEGIN:VEVENT
DTSTART;TZID=UTC:20250529T190000
DTEND;TZID=UTC:20250529T210000
DTSTAMP:20260421T194432
CREATED:20250423T165253Z
LAST-MODIFIED:20250423T180050Z
UID:427-1748545200-1748552400@www.leedssalsaclub.com
SUMMARY:Salsa Both Level Classes
DESCRIPTION:Salsa with Leeds Salsa Club returns to Cornerstone Baptist Church Hall! \nLocated in the Headingley and free street parking close by\, welcome back to the best salsa night in Leeds! \n7.00pm-8.00pm Beginners/Improvers \n8.00pm-9.00pm Intermediate/Advanced \n£10pp for both classes (only valid on same night) \nYou can book online or by card/cash at the venue.
URL:https://www.leedssalsaclub.com/event/salsa-both-level-classes-5/
LOCATION:Cornerstone Baptist Church Hall\, Kirkstall Ln\, Headingley\, Leeds\, LS6 3LF
CATEGORIES:Salsa Events
ATTACH;FMTTYPE=image/png:https://www.leedssalsaclub.com/wp-content/uploads/2025/04/png_20230421_081430_0000.png
END:VEVENT
BEGIN:VEVENT
DTSTART;TZID=UTC:20250529T190000
DTEND;TZID=UTC:20250529T200000
DTSTAMP:20260421T194432
CREATED:20250423T165342Z
LAST-MODIFIED:20250423T180139Z
UID:431-1748545200-1748548800@www.leedssalsaclub.com
SUMMARY:Salsa Beginners/Improvers Class
DESCRIPTION:Salsa with Leeds Salsa Club returns to Cornerstone Baptist Church Hall! \nLocated in the Headingley and free street parking close by\, welcome back to the best salsa night in Leeds! \n7.00pm-8.00pm Beginners/Improvers \n£7pp \nYou can book online or by card/cash at the venue.
URL:https://www.leedssalsaclub.com/event/salsa-beginners-improvers-class-6/
CATEGORIES:Salsa Events
ATTACH;FMTTYPE=image/png:https://www.leedssalsaclub.com/wp-content/uploads/2025/04/png_20230421_081430_0000.png
END:VEVENT
BEGIN:VEVENT
DTSTART;TZID=UTC:20250521T192500
DTEND;TZID=UTC:20250521T202500
DTSTAMP:20260421T194432
CREATED:20250423T163225Z
LAST-MODIFIED:20250423T165832Z
UID:400-1747855500-1747859100@www.leedssalsaclub.com
SUMMARY:Bachata All Level 6 Week Course
DESCRIPTION:Bachata All Level 6 Week Course \nBeginners Welcome! \nStarting 21 May – 25 June \nHeld at the Dance Studio Leeds\, Mabgate Mills. \nClasses will run every Wednesday at 7.25pm. \nNo partner required. \nThere are limited spaces\, please book early to avoid disappointment. \n**Refunds are not available on courses\, where possible we may be able to move you onto another course depending on the situation and availability**
URL:https://www.leedssalsaclub.com/event/bachata-alllevel-6-week-course-2/
LOCATION:Dance Studio\, Mill 6\, Mabgate mills\, Macaulay St\, Leeds\, LS9 7SW
CATEGORIES:Salsa Events
ATTACH;FMTTYPE=image/jpeg:https://www.leedssalsaclub.com/wp-content/uploads/2025/04/FB_IMG_1643798699892.jpg
ORGANIZER;CN="Leeds Salsa Club":MAILTO:salsatwinsuk@gmail.co.uk
END:VEVENT
BEGIN:VEVENT
DTSTART;TZID=UTC:20250515T200000
DTEND;TZID=UTC:20250515T210000
DTSTAMP:20260421T194432
CREATED:20250423T165145Z
LAST-MODIFIED:20250423T180546Z
UID:423-1747339200-1747342800@www.leedssalsaclub.com
SUMMARY:Salsa Intermediate/Advanced Class
DESCRIPTION:Salsa with Leeds Salsa Club returns to Cornerstone Baptist Church Hall! \nLocated in Headingley and free street parking close by\, welcome back to the best salsa night in Leeds! \n8.00pm-9.00pm Intermediate/Advanced \n£7pp \nYou can book online or by card/cash at the venue.
URL:https://www.leedssalsaclub.com/event/salsa-intermediate-advanced-class-4/
CATEGORIES:Salsa Events
ATTACH;FMTTYPE=image/png:https://www.leedssalsaclub.com/wp-content/uploads/2025/04/png_20230421_081430_0000.png
END:VEVENT
BEGIN:VEVENT
DTSTART;TZID=UTC:20250515T190000
DTEND;TZID=UTC:20250515T210000
DTSTAMP:20260421T194432
CREATED:20250423T165119Z
LAST-MODIFIED:20250423T180641Z
UID:421-1747335600-1747342800@www.leedssalsaclub.com
SUMMARY:Salsa Both Level Classes
DESCRIPTION:Salsa with Leeds Salsa Club returns to Cornerstone Baptist Church Hall! \nLocated in the Headingley and free street parking close by\, welcome back to the best salsa night in Leeds! \n7.00pm-8.00pm Beginners/Improvers \n8.00pm-9.00pm Intermediate/Advanced \n£10pp for both classes (only valid on same night) \nYou can book online or by card/cash at the venue.
URL:https://www.leedssalsaclub.com/event/salsa-both-level-classes-4/
LOCATION:Cornerstone Baptist Church Hall\, Kirkstall Ln\, Headingley\, Leeds\, LS6 3LF
CATEGORIES:Salsa Events
ATTACH;FMTTYPE=image/png:https://www.leedssalsaclub.com/wp-content/uploads/2025/04/png_20230421_081430_0000.png
END:VEVENT
BEGIN:VEVENT
DTSTART;TZID=UTC:20250515T190000
DTEND;TZID=UTC:20250515T200000
DTSTAMP:20260421T194432
CREATED:20250423T165051Z
LAST-MODIFIED:20250423T180722Z
UID:419-1747335600-1747339200@www.leedssalsaclub.com
SUMMARY:Salsa Beginners/Improvers Class
DESCRIPTION:Salsa with Leeds Salsa Club returns to Cornerstone Baptist Church Hall! \nLocated in the Headingley and free street parking close by\, welcome back to the best salsa night in Leeds! \n7.00pm-8.00pm Beginners/Improvers \n£7pp \nYou can book online or by card/cash at the venue.
URL:https://www.leedssalsaclub.com/event/salsa-beginners-improvers-class-4/
CATEGORIES:Salsa Events
ATTACH;FMTTYPE=image/png:https://www.leedssalsaclub.com/wp-content/uploads/2025/04/png_20230421_081430_0000.png
END:VEVENT
BEGIN:VEVENT
DTSTART;TZID=UTC:20250508T200000
DTEND;TZID=UTC:20250508T210000
DTSTAMP:20260421T194432
CREATED:20250423T165019Z
LAST-MODIFIED:20250423T180758Z
UID:417-1746734400-1746738000@www.leedssalsaclub.com
SUMMARY:Salsa Intermediate/Advanced Class
DESCRIPTION:Salsa with Leeds Salsa Club returns to Cornerstone Baptist Church Hall! \nLocated in Headingley and free street parking close by\, welcome back to the best salsa night in Leeds! \n8.00pm-9.00pm Intermediate/Advanced \n£7pp \nYou can book online or by card/cash at the venue.
URL:https://www.leedssalsaclub.com/event/salsa-intermediate-advanced-class-3/
CATEGORIES:Salsa Events
ATTACH;FMTTYPE=image/png:https://www.leedssalsaclub.com/wp-content/uploads/2025/04/png_20230421_081430_0000.png
END:VEVENT
BEGIN:VEVENT
DTSTART;TZID=UTC:20250508T190000
DTEND;TZID=UTC:20250508T210000
DTSTAMP:20260421T194432
CREATED:20250423T164950Z
LAST-MODIFIED:20250423T180836Z
UID:415-1746730800-1746738000@www.leedssalsaclub.com
SUMMARY:Salsa Both Level Classes
DESCRIPTION:Salsa with Leeds Salsa Club returns to Cornerstone Baptist Church Hall! \nLocated in the Headingley and free street parking close by\, welcome back to the best salsa night in Leeds! \n7.00pm-8.00pm Beginners/Improvers \n8.00pm-9.00pm Intermediate/Advanced \n£10pp for both classes (only valid on same night) \nYou can book online or by card/cash at the venue.
URL:https://www.leedssalsaclub.com/event/salsa-both-level-classes-3/
LOCATION:Cornerstone Baptist Church Hall\, Kirkstall Ln\, Headingley\, Leeds\, LS6 3LF
CATEGORIES:Salsa Events
ATTACH;FMTTYPE=image/png:https://www.leedssalsaclub.com/wp-content/uploads/2025/04/png_20230421_081430_0000.png
END:VEVENT
BEGIN:VEVENT
DTSTART;TZID=UTC:20250508T190000
DTEND;TZID=UTC:20250508T200000
DTSTAMP:20260421T194432
CREATED:20250423T164914Z
LAST-MODIFIED:20250423T175610Z
UID:413-1746730800-1746734400@www.leedssalsaclub.com
SUMMARY:Salsa Beginners/Improvers Class
DESCRIPTION:Salsa with Leeds Salsa Club returns to Cornerstone Baptist Church Hall! \nLocated in the Headingley and free street parking close by\, welcome back to the best salsa night in Leeds! \n7.00pm-8.00pm Beginners/Improvers \n£7pp \nYou can book online or by card/cash at the venue.
URL:https://www.leedssalsaclub.com/event/salsa-beginners-improvers-class-3/
CATEGORIES:Salsa Events
ATTACH;FMTTYPE=image/png:https://www.leedssalsaclub.com/wp-content/uploads/2025/04/png_20230421_081430_0000.png
END:VEVENT
END:VCALENDAR