BEGIN:VCALENDAR
VERSION:2.0
PRODID:-//Leeds Salsa Club - ECPv6.15.20//NONSGML v1.0//EN
CALSCALE:GREGORIAN
METHOD:PUBLISH
X-WR-CALNAME:Leeds Salsa Club
X-ORIGINAL-URL:https://www.leedssalsaclub.com
X-WR-CALDESC:Events for Leeds Salsa Club
REFRESH-INTERVAL;VALUE=DURATION:PT1H
X-Robots-Tag:noindex
X-PUBLISHED-TTL:PT1H
BEGIN:VTIMEZONE
TZID:UTC
BEGIN:STANDARD
TZOFFSETFROM:+0000
TZOFFSETTO:+0000
TZNAME:UTC
DTSTART:20250101T000000
END:STANDARD
END:VTIMEZONE
BEGIN:VEVENT
DTSTART;TZID=UTC:20261002T180000
DTEND;TZID=UTC:20261002T200000
DTSTAMP:20260421T182604
CREATED:20260401T183707Z
LAST-MODIFIED:20260408T172508Z
UID:1378-1790964000-1790971200@www.leedssalsaclub.com
SUMMARY:West Side Story Performance Bootcamp!
DESCRIPTION:West Side Story Performance Bootcamp!\n\nIt is that time of year again! We get ready and perform at the Dance Studio Leeds Charity Showcase!\n\nIt is an amazing event every year and your chance to get dressed up and try something new and make new friends at the same time.\n\nThis year we will be doing a Salsa routine to America from West Side Story.\n\nThis is open to all levels and abilities\, we will teach you the choreography and get you stage ready.\n\nShow date is 21 November (You will need to be available all day\, as there are two shows on the day!)\n\nRehearsal dates are as follow at The Dance Studio Leeds;\n\n2 October\n9 October\n16 October\n23 October\n30 October\n6 November\n13 November\n\nTimes 6-8pm every Friday\n\nYou will need to be free Friday 20 November for tech rehearsal (evening only).\n\nPrice per person £140\n\nOutfits will be decided during rehearsals\, you will need Latin shoes.\n\nWant to check out out past performances\, you can find them on Youtube on our channel;\n\nLeeds Salsa Club - YouTube\n\nBooking is essential so don't miss out!\n\n*Refunds are not available on these courses*\n 
URL:https://www.leedssalsaclub.com/event/west-side-story-performance-bootcamp/
LOCATION:Dance Studio\, Mill 6\, Mabgate mills\, Macaulay St\, Leeds\, LS9 7SW
CATEGORIES:Salsa Events
ATTACH;FMTTYPE=image/jpeg:https://www.leedssalsaclub.com/wp-content/uploads/2026/04/322a39f1-8c8a-4da7-8e72-1c9def473b80.jpg
END:VEVENT
BEGIN:VEVENT
DTSTART;TZID=UTC:20260528T200000
DTEND;TZID=UTC:20260528T210000
DTSTAMP:20260421T182604
CREATED:20260325T210800Z
LAST-MODIFIED:20260325T210800Z
UID:1360-1779998400-1780002000@www.leedssalsaclub.com
SUMMARY:Salsa Intermediate/Advanced Class
DESCRIPTION:Salsa with Leeds Salsa Club returns to Cornerstone Baptist Church Hall! \nLocated in Headingley and free street parking close by\, welcome back to the best salsa night in Leeds! \n8.00pm-9.00pm Intermediate/Advanced \n£8pp \nYou can book online or by card/cash at the venue.
URL:https://www.leedssalsaclub.com/event/salsa-intermediate-advanced-class-48/
LOCATION:Cornerstone Baptist Church Hall\, Kirkstall Ln\, Headingley\, Leeds\, LS6 3LF
CATEGORIES:Salsa Events
ATTACH;FMTTYPE=image/jpeg:https://www.leedssalsaclub.com/wp-content/uploads/2025/04/DSCF30591655111421057-2.jpg
END:VEVENT
BEGIN:VEVENT
DTSTART;TZID=UTC:20260528T190000
DTEND;TZID=UTC:20260528T210000
DTSTAMP:20260421T182604
CREATED:20260325T205955Z
LAST-MODIFIED:20260325T205955Z
UID:1330-1779994800-1780002000@www.leedssalsaclub.com
SUMMARY:Salsa Both Level Classes
DESCRIPTION:Salsa with Leeds Salsa Club returns to Cornerstone Baptist Church Hall! \nLocated in the Headingley and free street parking close by\, welcome back to the best salsa night in Leeds! \n7.00pm-8.00pm Beginners/Improvers \n8.00pm-9.00pm Intermediate/Advanced \n£12pp for both classes (only valid on same night) \nYou can book online or by card/cash at the venue.
URL:https://www.leedssalsaclub.com/event/salsa-both-level-classes-47/
LOCATION:Cornerstone Baptist Church Hall\, Kirkstall Ln\, Headingley\, Leeds\, LS6 3LF
CATEGORIES:Salsa Events
ATTACH;FMTTYPE=image/jpeg:https://www.leedssalsaclub.com/wp-content/uploads/2025/04/DSCF30591655111421057-2.jpg
END:VEVENT
BEGIN:VEVENT
DTSTART;TZID=UTC:20260528T190000
DTEND;TZID=UTC:20260528T200000
DTSTAMP:20260421T182604
CREATED:20260325T205216Z
LAST-MODIFIED:20260325T205216Z
UID:1300-1779994800-1779998400@www.leedssalsaclub.com
SUMMARY:Salsa Beginners/Improvers Class
DESCRIPTION:Salsa with Leeds Salsa Club at the Cornerstone Baptist Church Hall! \nLocated in the Headingley and free street parking close by\, welcome back to the best salsa night in Leeds! \n7.00pm-8.00pm Beginners/Improvers \n£8pp \nYou can book online or by card/cash at the venue.
URL:https://www.leedssalsaclub.com/event/salsa-beginners-improvers-class-48/
LOCATION:Cornerstone Baptist Church Hall\, Kirkstall Ln\, Headingley\, Leeds\, LS6 3LF
CATEGORIES:Salsa Events
ATTACH;FMTTYPE=image/jpeg:https://www.leedssalsaclub.com/wp-content/uploads/2025/04/DSCF30591655111421057.jpg
END:VEVENT
BEGIN:VEVENT
DTSTART;TZID=UTC:20260521T200000
DTEND;TZID=UTC:20260521T210000
DTSTAMP:20260421T182604
CREATED:20260325T210729Z
LAST-MODIFIED:20260325T210729Z
UID:1357-1779393600-1779397200@www.leedssalsaclub.com
SUMMARY:Salsa Intermediate/Advanced Class
DESCRIPTION:Salsa with Leeds Salsa Club returns to Cornerstone Baptist Church Hall! \nLocated in Headingley and free street parking close by\, welcome back to the best salsa night in Leeds! \n8.00pm-9.00pm Intermediate/Advanced \n£8pp \nYou can book online or by card/cash at the venue.
URL:https://www.leedssalsaclub.com/event/salsa-intermediate-advanced-class-47/
LOCATION:Cornerstone Baptist Church Hall\, Kirkstall Ln\, Headingley\, Leeds\, LS6 3LF
CATEGORIES:Salsa Events
ATTACH;FMTTYPE=image/jpeg:https://www.leedssalsaclub.com/wp-content/uploads/2025/04/DSCF30591655111421057-2.jpg
END:VEVENT
BEGIN:VEVENT
DTSTART;TZID=UTC:20260521T190000
DTEND;TZID=UTC:20260521T210000
DTSTAMP:20260421T182604
CREATED:20260325T205917Z
LAST-MODIFIED:20260325T205917Z
UID:1327-1779390000-1779397200@www.leedssalsaclub.com
SUMMARY:Salsa Both Level Classes
DESCRIPTION:Salsa with Leeds Salsa Club returns to Cornerstone Baptist Church Hall! \nLocated in the Headingley and free street parking close by\, welcome back to the best salsa night in Leeds! \n7.00pm-8.00pm Beginners/Improvers \n8.00pm-9.00pm Intermediate/Advanced \n£12pp for both classes (only valid on same night) \nYou can book online or by card/cash at the venue.
URL:https://www.leedssalsaclub.com/event/salsa-both-level-classes-46/
LOCATION:Cornerstone Baptist Church Hall\, Kirkstall Ln\, Headingley\, Leeds\, LS6 3LF
CATEGORIES:Salsa Events
ATTACH;FMTTYPE=image/jpeg:https://www.leedssalsaclub.com/wp-content/uploads/2025/04/DSCF30591655111421057-2.jpg
END:VEVENT
BEGIN:VEVENT
DTSTART;TZID=UTC:20260521T190000
DTEND;TZID=UTC:20260521T200000
DTSTAMP:20260421T182604
CREATED:20260325T205140Z
LAST-MODIFIED:20260325T205140Z
UID:1297-1779390000-1779393600@www.leedssalsaclub.com
SUMMARY:Salsa Beginners/Improvers Class
DESCRIPTION:Salsa with Leeds Salsa Club at the Cornerstone Baptist Church Hall! \nLocated in the Headingley and free street parking close by\, welcome back to the best salsa night in Leeds! \n7.00pm-8.00pm Beginners/Improvers \n£8pp \nYou can book online or by card/cash at the venue.
URL:https://www.leedssalsaclub.com/event/salsa-beginners-improvers-class-47/
LOCATION:Cornerstone Baptist Church Hall\, Kirkstall Ln\, Headingley\, Leeds\, LS6 3LF
CATEGORIES:Salsa Events
ATTACH;FMTTYPE=image/jpeg:https://www.leedssalsaclub.com/wp-content/uploads/2025/04/DSCF30591655111421057.jpg
END:VEVENT
BEGIN:VEVENT
DTSTART;TZID=UTC:20260514T200000
DTEND;TZID=UTC:20260514T210000
DTSTAMP:20260421T182604
CREATED:20260325T210657Z
LAST-MODIFIED:20260325T210657Z
UID:1354-1778788800-1778792400@www.leedssalsaclub.com
SUMMARY:Salsa Intermediate/Advanced Class
DESCRIPTION:Salsa with Leeds Salsa Club returns to Cornerstone Baptist Church Hall! \nLocated in Headingley and free street parking close by\, welcome back to the best salsa night in Leeds! \n8.00pm-9.00pm Intermediate/Advanced \n£8pp \nYou can book online or by card/cash at the venue.
URL:https://www.leedssalsaclub.com/event/salsa-intermediate-advanced-class-46/
LOCATION:Cornerstone Baptist Church Hall\, Kirkstall Ln\, Headingley\, Leeds\, LS6 3LF
CATEGORIES:Salsa Events
ATTACH;FMTTYPE=image/jpeg:https://www.leedssalsaclub.com/wp-content/uploads/2025/04/DSCF30591655111421057-2.jpg
END:VEVENT
BEGIN:VEVENT
DTSTART;TZID=UTC:20260514T190000
DTEND;TZID=UTC:20260514T210000
DTSTAMP:20260421T182604
CREATED:20260325T205833Z
LAST-MODIFIED:20260325T205833Z
UID:1324-1778785200-1778792400@www.leedssalsaclub.com
SUMMARY:Salsa Both Level Classes
DESCRIPTION:Salsa with Leeds Salsa Club returns to Cornerstone Baptist Church Hall! \nLocated in the Headingley and free street parking close by\, welcome back to the best salsa night in Leeds! \n7.00pm-8.00pm Beginners/Improvers \n8.00pm-9.00pm Intermediate/Advanced \n£12pp for both classes (only valid on same night) \nYou can book online or by card/cash at the venue.
URL:https://www.leedssalsaclub.com/event/salsa-both-level-classes-45/
LOCATION:Cornerstone Baptist Church Hall\, Kirkstall Ln\, Headingley\, Leeds\, LS6 3LF
CATEGORIES:Salsa Events
ATTACH;FMTTYPE=image/jpeg:https://www.leedssalsaclub.com/wp-content/uploads/2025/04/DSCF30591655111421057-2.jpg
END:VEVENT
BEGIN:VEVENT
DTSTART;TZID=UTC:20260514T190000
DTEND;TZID=UTC:20260514T200000
DTSTAMP:20260421T182604
CREATED:20260325T205102Z
LAST-MODIFIED:20260325T205102Z
UID:1294-1778785200-1778788800@www.leedssalsaclub.com
SUMMARY:Salsa Beginners/Improvers Class
DESCRIPTION:Salsa with Leeds Salsa Club at the Cornerstone Baptist Church Hall! \nLocated in the Headingley and free street parking close by\, welcome back to the best salsa night in Leeds! \n7.00pm-8.00pm Beginners/Improvers \n£8pp \nYou can book online or by card/cash at the venue.
URL:https://www.leedssalsaclub.com/event/salsa-beginners-improvers-class-46/
LOCATION:Cornerstone Baptist Church Hall\, Kirkstall Ln\, Headingley\, Leeds\, LS6 3LF
CATEGORIES:Salsa Events
ATTACH;FMTTYPE=image/jpeg:https://www.leedssalsaclub.com/wp-content/uploads/2025/04/DSCF30591655111421057.jpg
END:VEVENT
BEGIN:VEVENT
DTSTART;TZID=UTC:20260513T192500
DTEND;TZID=UTC:20260513T192500
DTSTAMP:20260421T182604
CREATED:20260118T091716Z
LAST-MODIFIED:20260118T091716Z
UID:1128-1778700300-1778700300@www.leedssalsaclub.com
SUMMARY:Bachata All Level 6 Week Course
DESCRIPTION:Bachata All Level 6 Week Course \nBeginners Welcome! \nStarting 13 May – 17 June \nHeld at the Dance Studio Leeds\, Mabgate Mills. \nClasses will run every Wednesday at 7.25pm. \nNo partner required. \nThere are limited spaces\, please book early to avoid disappointment. \n**Refunds are not available on courses\, where possible we may be able to move you onto another course depending on the situation and availability**
URL:https://www.leedssalsaclub.com/event/bachata-all-level-6-week-course-8/
LOCATION:Dance Studio\, Mill 6\, Mabgate mills\, Macaulay St\, Leeds\, LS9 7SW
CATEGORIES:Salsa Events
ATTACH;FMTTYPE=image/jpeg:https://www.leedssalsaclub.com/wp-content/uploads/2025/04/FB_IMG_1643798699892.jpg
ORGANIZER;CN="Leeds Salsa Club":MAILTO:salsatwinsuk@gmail.co.uk
END:VEVENT
BEGIN:VEVENT
DTSTART;TZID=UTC:20260507T200000
DTEND;TZID=UTC:20260507T210000
DTSTAMP:20260421T182604
CREATED:20260325T210624Z
LAST-MODIFIED:20260325T210624Z
UID:1351-1778184000-1778187600@www.leedssalsaclub.com
SUMMARY:Salsa Intermediate/Advanced Class
DESCRIPTION:Salsa with Leeds Salsa Club returns to Cornerstone Baptist Church Hall! \nLocated in Headingley and free street parking close by\, welcome back to the best salsa night in Leeds! \n8.00pm-9.00pm Intermediate/Advanced \n£8pp \nYou can book online or by card/cash at the venue.
URL:https://www.leedssalsaclub.com/event/salsa-intermediate-advanced-class-45/
LOCATION:Cornerstone Baptist Church Hall\, Kirkstall Ln\, Headingley\, Leeds\, LS6 3LF
CATEGORIES:Salsa Events
ATTACH;FMTTYPE=image/jpeg:https://www.leedssalsaclub.com/wp-content/uploads/2025/04/DSCF30591655111421057-2.jpg
END:VEVENT
BEGIN:VEVENT
DTSTART;TZID=UTC:20260507T190000
DTEND;TZID=UTC:20260507T210000
DTSTAMP:20260421T182604
CREATED:20260325T205752Z
LAST-MODIFIED:20260325T205752Z
UID:1321-1778180400-1778187600@www.leedssalsaclub.com
SUMMARY:Salsa Both Level Classes
DESCRIPTION:Salsa with Leeds Salsa Club returns to Cornerstone Baptist Church Hall! \nLocated in the Headingley and free street parking close by\, welcome back to the best salsa night in Leeds! \n7.00pm-8.00pm Beginners/Improvers \n8.00pm-9.00pm Intermediate/Advanced \n£12pp for both classes (only valid on same night) \nYou can book online or by card/cash at the venue.
URL:https://www.leedssalsaclub.com/event/salsa-both-level-classes-44/
LOCATION:Cornerstone Baptist Church Hall\, Kirkstall Ln\, Headingley\, Leeds\, LS6 3LF
CATEGORIES:Salsa Events
ATTACH;FMTTYPE=image/jpeg:https://www.leedssalsaclub.com/wp-content/uploads/2025/04/DSCF30591655111421057-2.jpg
END:VEVENT
BEGIN:VEVENT
DTSTART;TZID=UTC:20260507T190000
DTEND;TZID=UTC:20260507T200000
DTSTAMP:20260421T182604
CREATED:20260325T205022Z
LAST-MODIFIED:20260325T205022Z
UID:1291-1778180400-1778184000@www.leedssalsaclub.com
SUMMARY:Salsa Beginners/Improvers Class
DESCRIPTION:Salsa with Leeds Salsa Club at the Cornerstone Baptist Church Hall! \nLocated in the Headingley and free street parking close by\, welcome back to the best salsa night in Leeds! \n7.00pm-8.00pm Beginners/Improvers \n£8pp \nYou can book online or by card/cash at the venue.
URL:https://www.leedssalsaclub.com/event/salsa-beginners-improvers-class-45/
LOCATION:Cornerstone Baptist Church Hall\, Kirkstall Ln\, Headingley\, Leeds\, LS6 3LF
CATEGORIES:Salsa Events
ATTACH;FMTTYPE=image/jpeg:https://www.leedssalsaclub.com/wp-content/uploads/2025/04/DSCF30591655111421057.jpg
END:VEVENT
BEGIN:VEVENT
DTSTART;TZID=UTC:20260430T200000
DTEND;TZID=UTC:20260430T210000
DTSTAMP:20260421T182604
CREATED:20260325T210551Z
LAST-MODIFIED:20260325T210551Z
UID:1348-1777579200-1777582800@www.leedssalsaclub.com
SUMMARY:Salsa Intermediate/Advanced Class
DESCRIPTION:Salsa with Leeds Salsa Club returns to Cornerstone Baptist Church Hall! \nLocated in Headingley and free street parking close by\, welcome back to the best salsa night in Leeds! \n8.00pm-9.00pm Intermediate/Advanced \n£8pp \nYou can book online or by card/cash at the venue.
URL:https://www.leedssalsaclub.com/event/salsa-intermediate-advanced-class-44/
LOCATION:Cornerstone Baptist Church Hall\, Kirkstall Ln\, Headingley\, Leeds\, LS6 3LF
CATEGORIES:Salsa Events
ATTACH;FMTTYPE=image/jpeg:https://www.leedssalsaclub.com/wp-content/uploads/2025/04/DSCF30591655111421057-2.jpg
END:VEVENT
BEGIN:VEVENT
DTSTART;TZID=UTC:20260430T190000
DTEND;TZID=UTC:20260430T210000
DTSTAMP:20260421T182604
CREATED:20260325T205715Z
LAST-MODIFIED:20260325T205715Z
UID:1318-1777575600-1777582800@www.leedssalsaclub.com
SUMMARY:Salsa Both Level Classes
DESCRIPTION:Salsa with Leeds Salsa Club returns to Cornerstone Baptist Church Hall! \nLocated in the Headingley and free street parking close by\, welcome back to the best salsa night in Leeds! \n7.00pm-8.00pm Beginners/Improvers \n8.00pm-9.00pm Intermediate/Advanced \n£12pp for both classes (only valid on same night) \nYou can book online or by card/cash at the venue.
URL:https://www.leedssalsaclub.com/event/salsa-both-level-classes-43/
LOCATION:Cornerstone Baptist Church Hall\, Kirkstall Ln\, Headingley\, Leeds\, LS6 3LF
CATEGORIES:Salsa Events
ATTACH;FMTTYPE=image/jpeg:https://www.leedssalsaclub.com/wp-content/uploads/2025/04/DSCF30591655111421057-2.jpg
END:VEVENT
BEGIN:VEVENT
DTSTART;TZID=UTC:20260430T190000
DTEND;TZID=UTC:20260430T200000
DTSTAMP:20260421T182604
CREATED:20260325T204927Z
LAST-MODIFIED:20260325T204927Z
UID:1288-1777575600-1777579200@www.leedssalsaclub.com
SUMMARY:Salsa Beginners/Improvers Class
DESCRIPTION:Salsa with Leeds Salsa Club at the Cornerstone Baptist Church Hall! \nLocated in the Headingley and free street parking close by\, welcome back to the best salsa night in Leeds! \n7.00pm-8.00pm Beginners/Improvers \n£8pp \nYou can book online or by card/cash at the venue.
URL:https://www.leedssalsaclub.com/event/salsa-beginners-improvers-class-44/
LOCATION:Cornerstone Baptist Church Hall\, Kirkstall Ln\, Headingley\, Leeds\, LS6 3LF
CATEGORIES:Salsa Events
ATTACH;FMTTYPE=image/jpeg:https://www.leedssalsaclub.com/wp-content/uploads/2025/04/DSCF30591655111421057.jpg
END:VEVENT
BEGIN:VEVENT
DTSTART;TZID=UTC:20260423T200000
DTEND;TZID=UTC:20260423T210000
DTSTAMP:20260421T182604
CREATED:20260325T210515Z
LAST-MODIFIED:20260325T210515Z
UID:1345-1776974400-1776978000@www.leedssalsaclub.com
SUMMARY:Salsa Intermediate/Advanced Class
DESCRIPTION:Salsa with Leeds Salsa Club returns to Cornerstone Baptist Church Hall! \nLocated in Headingley and free street parking close by\, welcome back to the best salsa night in Leeds! \n8.00pm-9.00pm Intermediate/Advanced \n£8pp \nYou can book online or by card/cash at the venue.
URL:https://www.leedssalsaclub.com/event/salsa-intermediate-advanced-class-43/
LOCATION:Cornerstone Baptist Church Hall\, Kirkstall Ln\, Headingley\, Leeds\, LS6 3LF
CATEGORIES:Salsa Events
ATTACH;FMTTYPE=image/jpeg:https://www.leedssalsaclub.com/wp-content/uploads/2025/04/DSCF30591655111421057-2.jpg
END:VEVENT
BEGIN:VEVENT
DTSTART;TZID=UTC:20260423T190000
DTEND;TZID=UTC:20260423T210000
DTSTAMP:20260421T182604
CREATED:20260325T205631Z
LAST-MODIFIED:20260325T205631Z
UID:1315-1776970800-1776978000@www.leedssalsaclub.com
SUMMARY:Salsa Both Level Classes
DESCRIPTION:Salsa with Leeds Salsa Club returns to Cornerstone Baptist Church Hall! \nLocated in the Headingley and free street parking close by\, welcome back to the best salsa night in Leeds! \n7.00pm-8.00pm Beginners/Improvers \n8.00pm-9.00pm Intermediate/Advanced \n£12pp for both classes (only valid on same night) \nYou can book online or by card/cash at the venue.
URL:https://www.leedssalsaclub.com/event/salsa-both-level-classes-42/
LOCATION:Cornerstone Baptist Church Hall\, Kirkstall Ln\, Headingley\, Leeds\, LS6 3LF
CATEGORIES:Salsa Events
ATTACH;FMTTYPE=image/jpeg:https://www.leedssalsaclub.com/wp-content/uploads/2025/04/DSCF30591655111421057-2.jpg
END:VEVENT
BEGIN:VEVENT
DTSTART;TZID=UTC:20260423T190000
DTEND;TZID=UTC:20260423T200000
DTSTAMP:20260421T182604
CREATED:20260325T204834Z
LAST-MODIFIED:20260325T204834Z
UID:1285-1776970800-1776974400@www.leedssalsaclub.com
SUMMARY:Salsa Beginners/Improvers Class
DESCRIPTION:Salsa with Leeds Salsa Club at the Cornerstone Baptist Church Hall! \nLocated in the Headingley and free street parking close by\, welcome back to the best salsa night in Leeds! \n7.00pm-8.00pm Beginners/Improvers \n£8pp \nYou can book online or by card/cash at the venue.
URL:https://www.leedssalsaclub.com/event/salsa-beginners-improvers-class-43/
LOCATION:Cornerstone Baptist Church Hall\, Kirkstall Ln\, Headingley\, Leeds\, LS6 3LF
CATEGORIES:Salsa Events
ATTACH;FMTTYPE=image/jpeg:https://www.leedssalsaclub.com/wp-content/uploads/2025/04/DSCF30591655111421057.jpg
END:VEVENT
BEGIN:VEVENT
DTSTART;TZID=UTC:20260417T100000
DTEND;TZID=UTC:20260417T110000
DTSTAMP:20260421T182604
CREATED:20260309T174819Z
LAST-MODIFIED:20260309T174819Z
UID:1256-1776420000-1776423600@www.leedssalsaclub.com
SUMMARY:SalsaFit 6 Week Course
DESCRIPTION:SalsaFit 6 Week Course \n@Scarcroft Village Hall \n10am – 11am Every Friday for six weeks. \n17 April – 22 May \nLearn a fun Salsa footwork routine over the 6 weeks\, whilst getting fit and meeting new friends! \nThis is an open level class\, everyone is welcome regardless of age\, ability and health levels. Just come and have fun! \n6 Week course £45pp \nBooking is required to secure your space. \n*Refunds are not available on these courses*
URL:https://www.leedssalsaclub.com/event/salsafit-6-week-course-5/
LOCATION:Scarcroft Village Hall\, Wetherby Road\, Scarcroft\, LS14 3AS
CATEGORIES:Salsa Events
ATTACH;FMTTYPE=image/jpeg:https://www.leedssalsaclub.com/wp-content/uploads/2025/04/FB_IMG_1654242560488.jpg
END:VEVENT
BEGIN:VEVENT
DTSTART;TZID=UTC:20260416T200000
DTEND;TZID=UTC:20260416T210000
DTSTAMP:20260421T182604
CREATED:20260325T210431Z
LAST-MODIFIED:20260325T210431Z
UID:1342-1776369600-1776373200@www.leedssalsaclub.com
SUMMARY:Salsa Intermediate/Advanced Class
DESCRIPTION:Salsa with Leeds Salsa Club returns to Cornerstone Baptist Church Hall! \nLocated in Headingley and free street parking close by\, welcome back to the best salsa night in Leeds! \n8.00pm-9.00pm Intermediate/Advanced \n£8pp \nYou can book online or by card/cash at the venue.
URL:https://www.leedssalsaclub.com/event/salsa-intermediate-advanced-class-42/
LOCATION:Cornerstone Baptist Church Hall\, Kirkstall Ln\, Headingley\, Leeds\, LS6 3LF
CATEGORIES:Salsa Events
ATTACH;FMTTYPE=image/jpeg:https://www.leedssalsaclub.com/wp-content/uploads/2025/04/DSCF30591655111421057-2.jpg
END:VEVENT
BEGIN:VEVENT
DTSTART;TZID=UTC:20260416T190000
DTEND;TZID=UTC:20260416T210000
DTSTAMP:20260421T182604
CREATED:20260325T205545Z
LAST-MODIFIED:20260325T205545Z
UID:1312-1776366000-1776373200@www.leedssalsaclub.com
SUMMARY:Salsa Both Level Classes
DESCRIPTION:Salsa with Leeds Salsa Club returns to Cornerstone Baptist Church Hall! \nLocated in the Headingley and free street parking close by\, welcome back to the best salsa night in Leeds! \n7.00pm-8.00pm Beginners/Improvers \n8.00pm-9.00pm Intermediate/Advanced \n£12pp for both classes (only valid on same night) \nYou can book online or by card/cash at the venue.
URL:https://www.leedssalsaclub.com/event/salsa-both-level-classes-41/
LOCATION:Cornerstone Baptist Church Hall\, Kirkstall Ln\, Headingley\, Leeds\, LS6 3LF
CATEGORIES:Salsa Events
ATTACH;FMTTYPE=image/jpeg:https://www.leedssalsaclub.com/wp-content/uploads/2025/04/DSCF30591655111421057-2.jpg
END:VEVENT
BEGIN:VEVENT
DTSTART;TZID=UTC:20260416T190000
DTEND;TZID=UTC:20260416T200000
DTSTAMP:20260421T182604
CREATED:20260325T204802Z
LAST-MODIFIED:20260325T204802Z
UID:1282-1776366000-1776369600@www.leedssalsaclub.com
SUMMARY:Salsa Beginners/Improvers Class
DESCRIPTION:Salsa with Leeds Salsa Club at the Cornerstone Baptist Church Hall! \nLocated in the Headingley and free street parking close by\, welcome back to the best salsa night in Leeds! \n7.00pm-8.00pm Beginners/Improvers \n£8pp \nYou can book online or by card/cash at the venue.
URL:https://www.leedssalsaclub.com/event/salsa-beginners-improvers-class-42/
LOCATION:Cornerstone Baptist Church Hall\, Kirkstall Ln\, Headingley\, Leeds\, LS6 3LF
CATEGORIES:Salsa Events
ATTACH;FMTTYPE=image/jpeg:https://www.leedssalsaclub.com/wp-content/uploads/2025/04/DSCF30591655111421057.jpg
END:VEVENT
BEGIN:VEVENT
DTSTART;TZID=UTC:20260414T110000
DTEND;TZID=UTC:20260414T120000
DTSTAMP:20260421T182604
CREATED:20260309T175204Z
LAST-MODIFIED:20260309T175204Z
UID:1259-1776164400-1776168000@www.leedssalsaclub.com
SUMMARY:BachaFit 6 Week Course
DESCRIPTION:BachaFit 6 Week Course \n@Scarcroft Village Hall \n11am – 12pm Every Tuesday for six weeks. \n14 April – 19 May \nLearn a fun Bachata footwork routine over the 6 weeks\, whilst getting fit and meeting new friends! \nThis is an open level class\, everyone is welcome regardless of age\, ability and health levels. Just come and have fun! \n6 Week course £45pp \nBooking is required to secure your space. \n*Refunds are not available on these courses*
URL:https://www.leedssalsaclub.com/event/bachafit-6-week-course-5/
LOCATION:Scarcroft Village Hall\, Wetherby Road\, Scarcroft\, LS14 3AS
CATEGORIES:Salsa Events
ATTACH;FMTTYPE=image/jpeg:https://www.leedssalsaclub.com/wp-content/uploads/2025/04/Abi_Teaching.jpg
END:VEVENT
BEGIN:VEVENT
DTSTART;TZID=UTC:20260409T200000
DTEND;TZID=UTC:20260409T210000
DTSTAMP:20260421T182604
CREATED:20260325T210345Z
LAST-MODIFIED:20260325T210345Z
UID:1339-1775764800-1775768400@www.leedssalsaclub.com
SUMMARY:Salsa Intermediate/Advanced Class
DESCRIPTION:Salsa with Leeds Salsa Club returns to Cornerstone Baptist Church Hall! \nLocated in Headingley and free street parking close by\, welcome back to the best salsa night in Leeds! \n8.00pm-9.00pm Intermediate/Advanced \n£8pp \nYou can book online or by card/cash at the venue.
URL:https://www.leedssalsaclub.com/event/salsa-intermediate-advanced-class-41/
LOCATION:Cornerstone Baptist Church Hall\, Kirkstall Ln\, Headingley\, Leeds\, LS6 3LF
CATEGORIES:Salsa Events
ATTACH;FMTTYPE=image/jpeg:https://www.leedssalsaclub.com/wp-content/uploads/2025/04/DSCF30591655111421057-2.jpg
END:VEVENT
BEGIN:VEVENT
DTSTART;TZID=UTC:20260409T190000
DTEND;TZID=UTC:20260409T210000
DTSTAMP:20260421T182604
CREATED:20260325T205500Z
LAST-MODIFIED:20260325T205500Z
UID:1309-1775761200-1775768400@www.leedssalsaclub.com
SUMMARY:Salsa Both Level Classes
DESCRIPTION:Salsa with Leeds Salsa Club returns to Cornerstone Baptist Church Hall! \nLocated in the Headingley and free street parking close by\, welcome back to the best salsa night in Leeds! \n7.00pm-8.00pm Beginners/Improvers \n8.00pm-9.00pm Intermediate/Advanced \n£12pp for both classes (only valid on same night) \nYou can book online or by card/cash at the venue.
URL:https://www.leedssalsaclub.com/event/salsa-both-level-classes-40/
LOCATION:Cornerstone Baptist Church Hall\, Kirkstall Ln\, Headingley\, Leeds\, LS6 3LF
CATEGORIES:Salsa Events
ATTACH;FMTTYPE=image/jpeg:https://www.leedssalsaclub.com/wp-content/uploads/2025/04/DSCF30591655111421057-2.jpg
END:VEVENT
BEGIN:VEVENT
DTSTART;TZID=UTC:20260409T190000
DTEND;TZID=UTC:20260409T200000
DTSTAMP:20260421T182604
CREATED:20260325T204718Z
LAST-MODIFIED:20260325T204718Z
UID:1279-1775761200-1775764800@www.leedssalsaclub.com
SUMMARY:Salsa Beginners/Improvers Class
DESCRIPTION:Salsa with Leeds Salsa Club at the Cornerstone Baptist Church Hall! \nLocated in the Headingley and free street parking close by\, welcome back to the best salsa night in Leeds! \n7.00pm-8.00pm Beginners/Improvers \n£8pp \nYou can book online or by card/cash at the venue.
URL:https://www.leedssalsaclub.com/event/salsa-beginners-improvers-class-41/
LOCATION:Cornerstone Baptist Church Hall\, Kirkstall Ln\, Headingley\, Leeds\, LS6 3LF
CATEGORIES:Salsa Events
ATTACH;FMTTYPE=image/jpeg:https://www.leedssalsaclub.com/wp-content/uploads/2025/04/DSCF30591655111421057.jpg
END:VEVENT
BEGIN:VEVENT
DTSTART;TZID=UTC:20260402T200000
DTEND;TZID=UTC:20260402T210000
DTSTAMP:20260421T182604
CREATED:20260325T210251Z
LAST-MODIFIED:20260325T210251Z
UID:1336-1775160000-1775163600@www.leedssalsaclub.com
SUMMARY:Salsa Intermediate/Advanced Class
DESCRIPTION:Salsa with Leeds Salsa Club returns to Cornerstone Baptist Church Hall! \nLocated in Headingley and free street parking close by\, welcome back to the best salsa night in Leeds! \n8.00pm-9.00pm Intermediate/Advanced \n£8pp \nYou can book online or by card/cash at the venue.
URL:https://www.leedssalsaclub.com/event/salsa-intermediate-advanced-class-40/
LOCATION:Cornerstone Baptist Church Hall\, Kirkstall Ln\, Headingley\, Leeds\, LS6 3LF
CATEGORIES:Salsa Events
ATTACH;FMTTYPE=image/jpeg:https://www.leedssalsaclub.com/wp-content/uploads/2025/04/DSCF30591655111421057-2.jpg
END:VEVENT
BEGIN:VEVENT
DTSTART;TZID=UTC:20260402T190000
DTEND;TZID=UTC:20260402T210000
DTSTAMP:20260421T182604
CREATED:20260325T205424Z
LAST-MODIFIED:20260325T205424Z
UID:1306-1775156400-1775163600@www.leedssalsaclub.com
SUMMARY:Salsa Both Level Classes
DESCRIPTION:Salsa with Leeds Salsa Club returns to Cornerstone Baptist Church Hall! \nLocated in the Headingley and free street parking close by\, welcome back to the best salsa night in Leeds! \n7.00pm-8.00pm Beginners/Improvers \n8.00pm-9.00pm Intermediate/Advanced \n£12pp for both classes (only valid on same night) \nYou can book online or by card/cash at the venue.
URL:https://www.leedssalsaclub.com/event/salsa-both-level-classes-39/
LOCATION:Cornerstone Baptist Church Hall\, Kirkstall Ln\, Headingley\, Leeds\, LS6 3LF
CATEGORIES:Salsa Events
ATTACH;FMTTYPE=image/jpeg:https://www.leedssalsaclub.com/wp-content/uploads/2025/04/DSCF30591655111421057-2.jpg
END:VEVENT
END:VCALENDAR